BEGIN:VCALENDAR
VERSION:2.0
PRODID:-//ChamberMaster//Event Calendar 2.0//EN
METHOD:PUBLISH
X-PUBLISHED-TTL:P3D
REFRESH-INTERVAL:P3D
CALSCALE:GREGORIAN
BEGIN:VEVENT
DTSTART:20180505T123000Z
DTEND:20180505T142500Z
X-MICROSOFT-CDO-ALLDAYEVENT:FALSE
SUMMARY:Gratitude Attitude - Having Eyes for the Gifts (for girls 8-12 years old)
DESCRIPTION:In this class your girl will learn: What are the three components of gratitude How to express gratitude to others and herself How to spot the opportunities in challenging situations Why expressing gratitude welcomes more abundance After this class your girl will be able to acknowledge and own her accomplishments\, and use this confidence to help her continue moving forward in her current and future goals and dreams. While your girl can benefit from taking the series\, each class stands alone and offers its own unique benefit. Attending the other classes is not necessary. Class includes a lesson\, snack (nut-free)\, craft and brief walk in the arboretum grounds\, weather permitting. Enrollment is limited to accommodate for personal attention and growth
X-ALT-DESC;FMTTYPE=text/html:In this class your girl will learn: What are the three components of gratitude How to express gratitude to others and herself How to spot the opportunities in challenging situations Why expressing gratitude welcomes more abundance After this class your girl will be able to acknowledge and own her accomplishments\, and use this confidence to help her continue moving forward in her current and future goals and dreams. While your girl can benefit from taking the series\, each class stands alone and offers its own unique benefit. Attending the other classes is not necessary. Class includes a lesson\, snack (nut-free)\, craft and brief walk in the arboretum grounds\, weather permitting. Enrollment is limited to accommodate for personal attention and growth
LOCATION:Reeves-Reed Arboretum 165 Hobart Ave. Summit\, NJ 07901
UID:e.870.11793
SEQUENCE:3
DTSTAMP:20260421T134100Z
URL:https://business.suburbanchambers.org/events/details/gratitude-attitude-having-eyes-for-the-gifts-for-girls-8-12-years-old-11793
END:VEVENT

END:VCALENDAR
