BEGIN:VCALENDAR
VERSION:2.0
PRODID:-//ChamberMaster//Event Calendar 2.0//EN
METHOD:PUBLISH
X-PUBLISHED-TTL:P3D
REFRESH-INTERVAL:P3D
CALSCALE:GREGORIAN
BEGIN:VEVENT
DTSTART:20190406T140000Z
DTEND:20190406T200000Z
X-MICROSOFT-CDO-ALLDAYEVENT:FALSE
SUMMARY:Wellness Center Grand Opening
DESCRIPTION:The Vibrance for Life Wellness Institute Invites you to their Grand Opening\n\nTeam of Integrative Practitioners Offering Comprehensive and Coordinated Services\n\nMeet the Team!\n\nEnjoy Valuable Gifts and Prizes\n\nSample Healthy Foods and Snacks\n\nGourmet Coffee\, Tea\, Wine and Bone Broth Tastings\n\n\n\nToxin Free Beauty Items\n\n\n\nMake up and Skin Care\n\n\n\nToxin Free Cleaning Products\n\n\n\nChair Massage\n\n\n\nFree Diet Evaluation\n\n30-Minute Follow Up Consultation\n\n\n\nFree Stress Management Consultation \n\n30-Minute Private Consultation\n\nGrand Prize Winners\n\nWin Select Premier Weight Loss and Stress Management Services\n\nSpecial Invite to Supplement Savvy\n\nClear up the Confusion Around What Supplenentsto Take and Why - Order at a Discount \n\n\n\nJoin Us for this Fun-Filled Special Day!
X-ALT-DESC;FMTTYPE=text/html:<div style="text-align:center"><span style="font-size:18px"><strong>The Vibrance for Life Wellness Institute Invites you to their Grand Opening</strong></span><br />\n<span style="font-size:14px">Team of Integrative Practitioners Offering Comprehensive and Coordinated Services</span></div>\n\n<p style="text-align:center"><span style="font-size:12px"><strong><span style="font-size:14px">Meet the Team!</span></strong></span></p>\n\n<p style="text-align:center"><span style="font-size:12px"><span style="font-size:14px">Enjoy Valuable Gifts and Prizes</span></span></p>\n\n<p style="text-align:center"><span style="font-size:12px"><span style="font-size:14px"><strong>Sample Healthy Foods and Snacks</strong></span></span></p>\n\n<div style="text-align:center"><span style="font-size:12px"><span style="font-size:14px">Gourmet Coffee\, Tea\, Wine </span><span style="font-size:14px">and</span><span style="font-size:14px"> Bone Broth Tastings</span></span></div>\n\n<div style="text-align:center"><br />\n<span style="font-size:12px"><strong><span style="font-size:14px">Toxin Free Beauty Items</span></strong></span></div>\n\n<div style="text-align:center"><br />\n<span style="font-size:12px"><span style="font-size:14px">Make up and Skin Care</span></span></div>\n\n<div style="text-align:center"><br />\n<span style="font-size:12px"><span style="font-size:14px"><strong>Toxin Free Cleaning Products</strong></span></span></div>\n\n<div style="text-align:center"><br />\n<span style="font-size:12px"><span style="font-size:14px">Chair Massage</span><br />\n<br />\n<strong><span style="font-size:14px">Free Diet Evaluation</span></strong></span></div>\n\n<div style="text-align:center"><span style="font-size:14px">30-Minute Follow Up Consultation</span></div>\n\n<div style="text-align:center"><br />\n<span style="font-size:12px"><strong><span style="font-size:14px">Free Stress Management Consultation </span></strong></span></div>\n\n<div style="text-align:center"><span style="font-size:12px"><span style="font-size:14px">30-Minute Private Consultation</span></span></div>\n\n<p style="text-align:center"><span style="font-size:14px"><strong>Grand Prize Winners</strong></span><br />\n<span style="font-size:14px">Win Select Premier Weight Loss and Stress Management Services</span></p>\n\n<div style="text-align:center"><span style="font-size:12px"><span style="font-size:14px"><strong>Special Invite to Supplement Savvy</strong></span><br />\n<span style="font-size:14px">Clear up the Confusion Around What Supplenentsto Take and Why - Order at a Discount </span><br />\n<br />\n<span style="font-size:14px"><strong>Join Us for this Fun-Filled Special Day!</strong></span></span><br />\n&nbsp\;</div>\n
LOCATION:Vibrance for Life Wellness Institute 64 River Road\, First Floor Summit\, NJ 07901
UID:e.870.15394
SEQUENCE:3
DTSTAMP:20260419T233921Z
URL:https://business.suburbanchambers.org/events/details/grand-opening-15394
END:VEVENT

END:VCALENDAR
