BEGIN:VCALENDAR
VERSION:2.0
PRODID:-//ChamberMaster//Event Calendar 2.0//EN
METHOD:PUBLISH
X-PUBLISHED-TTL:P3D
REFRESH-INTERVAL:P3D
CALSCALE:GREGORIAN
BEGIN:VEVENT
DTSTART:20190419T230000Z
DTEND:20190419T234500Z
X-MICROSOFT-CDO-ALLDAYEVENT:FALSE
SUMMARY:Good Friday Service
DESCRIPTION:Join us as we solemnly remember the death of Jesus\, as God acts in love on our behalf. 7:00 pm in the Chapel (DeForest Avenue entrance)
X-ALT-DESC;FMTTYPE=text/html:Join us as we solemnly remember the death of Jesus\, as God acts in love on our behalf. 7:00 pm in the Chapel (DeForest Avenue entrance)
LOCATION:The United Methodist Church of Summit - Chapel 17 Kent Place Boulevard Summit\, NJ 07901
UID:e.870.15408
SEQUENCE:3
DTSTAMP:20260420T035405Z
URL:https://business.suburbanchambers.org/events/details/good-friday-service-04-19-2019-15408
END:VEVENT

END:VCALENDAR
