BEGIN:VCALENDAR
VERSION:2.0
PRODID:-//ChamberMaster//Event Calendar 2.0//EN
METHOD:PUBLISH
X-PUBLISHED-TTL:P3D
REFRESH-INTERVAL:P3D
CALSCALE:GREGORIAN
BEGIN:VEVENT
DTSTART:20190211T160000Z
DTEND:20190211T171500Z
X-MICROSOFT-CDO-ALLDAYEVENT:FALSE
SUMMARY:Friends of the Summit Public Library General Membership Meeting
DESCRIPTION:Friends of the Summit Free Public Library invite the public to attend a DAYTIME general membership meeting. This is a new meeting time for the Friends. Come hear what's new and add your ideas for ways the Friends can support the library! Bring your lunch and stay for the Monday Afternoon Movie\, starting at 12:30.
X-ALT-DESC;FMTTYPE=text/html:Friends of the Summit Free Public Library invite the public to attend a DAYTIME general membership meeting. This is a new meeting time for the Friends. Come hear what&#39\;s new and add your ideas for ways the Friends can support the library! Bring your lunch and stay for the Monday Afternoon Movie\, starting at 12:30.
LOCATION:Summit Free Public Library
UID:e.870.15213
SEQUENCE:3
DTSTAMP:20260420T081444Z
URL:https://business.suburbanchambers.org/events/details/friends-of-the-summit-public-library-general-membership-meeting-15213
END:VEVENT

END:VCALENDAR
