BEGIN:VCALENDAR
VERSION:2.0
PRODID:-//ChamberMaster//Event Calendar 2.0//EN
METHOD:PUBLISH
X-PUBLISHED-TTL:P3D
REFRESH-INTERVAL:P3D
CALSCALE:GREGORIAN
BEGIN:VEVENT
DTSTART:20190427T140000Z
DTEND:20190428T210000Z
X-MICROSOFT-CDO-ALLDAYEVENT:FALSE
SUMMARY:Friends of Summit Library Giant Donated Jewelry Sale
DESCRIPTION:The Friends of the Summit Free Public Library is holding its next fabulous sale of donated jewelry Saturday\, April 27th from 10:00 AM-5:00 PM and Sunday\, April 28th from 1:00-4:00 PM. The sale takes place at the library\, 75 Maple St. Come early for the best selection! You'll find everything-- from fun costume jewelry to working watches\, vintage and fine estate pieces in gold and silver with precious gems. Gift boxes available\, too! Cash and credit cards accepted. All sales directly benefit the library and all sales are final. Be sure to check out a sampling of the pieces being offered in this sale in the library display cases starting April 2nd. The Friends is a grass roots\, tax-exempt organization dedicated to assisting the library and welcomes new members at any time.
X-ALT-DESC;FMTTYPE=text/html:The Friends of the Summit Free Public Library is holding its next fabulous sale of donated jewelry Saturday\, April 27th from 10:00 AM-5:00 PM and Sunday\, April 28th from 1:00-4:00 PM. The sale takes place at the library\, 75 Maple St. Come early for the best selection! You&rsquo\;ll find everything-- from fun costume jewelry to working watches\, vintage and fine estate pieces in gold and silver with precious gems. Gift boxes available\, too! Cash and credit cards accepted. All sales directly benefit the library and all sales are final. Be sure to check out a sampling of the pieces being offered in this sale in the library display cases starting April 2nd. The Friends is a grass roots\, tax-exempt organization dedicated to assisting the library and welcomes new members at any time.
LOCATION:Summit Free Public Library 75 Maple St. Summit\, NJ 07901
UID:e.870.15387
SEQUENCE:3
DTSTAMP:20260420T043251Z
URL:https://business.suburbanchambers.org/events/details/friends-of-summit-library-giant-donated-jewelry-sale-15387
END:VEVENT

END:VCALENDAR
