BEGIN:VCALENDAR
VERSION:2.0
PRODID:-//ChamberMaster//Event Calendar 2.0//EN
METHOD:PUBLISH
X-PUBLISHED-TTL:P3D
REFRESH-INTERVAL:P3D
CALSCALE:GREGORIAN
BEGIN:VEVENT
DTSTART:20190415T170000Z
DTEND:20190415T190000Z
X-MICROSOFT-CDO-ALLDAYEVENT:FALSE
SUMMARY:Free Teen Movie "Aquaman"
DESCRIPTION:(Teens Grades 6-12) Come to the library to enjoy this action-packed adventure that spans the vast\, visually breathtaking underwater world of the seven seas. Aquaman\, starring Jason Momoa\, reveals the origin story of half-human\, half-Atlantean Arthur Curry and takes him on the journey of his lifetime one that will not only force him to face who he really is\, but to discover if he is worthy of who he was born to be... a king. PG-13
X-ALT-DESC;FMTTYPE=text/html:(Teens Grades 6-12) Come to the library to enjoy this action-packed adventure that spans the vast\, visually breathtaking underwater world of the seven seas. Aquaman\, starring Jason Momoa\, reveals the origin story of half-human\, half-Atlantean Arthur Curry and takes him on the journey of his lifetime&mdash\;one that will not only force him to face who he really is\, but to discover if he is worthy of who he was born to be... a king. PG-13
LOCATION:New Providence Memorial Library
UID:e.870.15361
SEQUENCE:3
DTSTAMP:20260420T001101Z
URL:https://business.suburbanchambers.org/events/details/free-teen-movie-aquaman-15361
END:VEVENT

END:VCALENDAR
