BEGIN:VCALENDAR
VERSION:2.0
PRODID:-//ChamberMaster//Event Calendar 2.0//EN
METHOD:PUBLISH
X-PUBLISHED-TTL:P3D
REFRESH-INTERVAL:P3D
CALSCALE:GREGORIAN
BEGIN:VEVENT
DTSTART;VALUE=DATE:20220603
DTEND;VALUE=DATE:20220604
TRANSP:TRANSPARENT
X-MICROSOFT-CDO-ALLDAYEVENT:TRUE
SUMMARY:Food collection drive in Summit
DESCRIPTION:The Summit Police Department will launch its eighth annual Food Drive on May 13\, collecting items that will be donated to the Loaves and Fishes Food Pantry of St. Teresa of Avila Church. The drive will continue through June 3. The SPD is asking for donations of canned food and non-perishable items. Collection bins will be located at the following locations in Summit: Police Department lobby\, City Hall\, 512 Springfield Ave. The Connection\, 79 Maple St. YMCA\, 67 Maple St. UPS Store\, 55 Union Pl. MONDO\, 426 Springfield Ave. Summit High School\, 125 Kent Place Blvd. Lawton C. Johnson Summit Middle School\, 272 Morris Ave. Washington School\, 507 Morris Ave. Franklin School\, 136 Blackburn Road Lincoln-Hubbard School\, 52 Woodland Ave. Brayton School\, 89 Tulip St. Jefferson School\, 110 Ashwood Ave. Wilson Primary Center\, 14 Beekman Terr. For details\, call the Summit Police at 908-273-0051 or contact ngriffiths@spdnj.org.
X-ALT-DESC;FMTTYPE=text/html:The Summit Police Department will launch its eighth annual Food Drive on May 13\, collecting items that will be donated to the Loaves and Fishes Food Pantry of St. Teresa of Avila Church. The drive will continue through June 3. The SPD is asking for donations of canned food and non-perishable items. Collection bins will be located at the following locations in Summit: Police Department lobby\, City Hall\, 512 Springfield Ave. The Connection\, 79 Maple St. YMCA\, 67 Maple St. UPS Store\, 55 Union Pl. MONDO\, 426 Springfield Ave. Summit High School\, 125 Kent Place Blvd. Lawton C. Johnson Summit Middle School\, 272 Morris Ave. Washington School\, 507 Morris Ave. Franklin School\, 136 Blackburn Road Lincoln-Hubbard School\, 52 Woodland Ave. Brayton School\, 89 Tulip St. Jefferson School\, 110 Ashwood Ave. Wilson Primary Center\, 14 Beekman Terr. For details\, call the Summit Police at 908-273-0051 or contact ngriffiths@spdnj.org.
LOCATION:Various
UID:e.870.17584
SEQUENCE:3
DTSTAMP:20260422T184123Z
URL:https://business.suburbanchambers.org/events/details/food-collection-drive-in-summit-06-03-2022-17584
END:VEVENT

END:VCALENDAR
