BEGIN:VCALENDAR
VERSION:2.0
PRODID:-//ChamberMaster//Event Calendar 2.0//EN
METHOD:PUBLISH
X-PUBLISHED-TTL:P3D
REFRESH-INTERVAL:P3D
CALSCALE:GREGORIAN
BEGIN:VEVENT
DTSTART:20181222T000000Z
DTEND:20181222T033000Z
X-MICROSOFT-CDO-ALLDAYEVENT:FALSE
SUMMARY:Folk Project Presents Benefit Concert for MUF
DESCRIPTION:The Folk Project is holding this benefit concert to thank the Morristown Unitarian Fellowship for hosting our Minstrel concert series. The evening begins with caroling at 7:00 pm\, followed by the concert at 7:30 pm. Performers include Katherine Rondeau\, Pamela Zave\, Randie O'Neil\, Dave Sherman\, Ken Chin and Mark Dutton. Free parking\, wheelchair accessible.
X-ALT-DESC;FMTTYPE=text/html:The Folk Project is holding this benefit concert to thank the Morristown Unitarian Fellowship for hosting our Minstrel concert series. The evening begins with caroling at 7:00 pm\, followed by the concert at 7:30 pm. Performers include Katherine Rondeau\, Pamela Zave\, Randie O&#39\;Neil\, Dave Sherman\, Ken Chin and Mark Dutton. Free parking\, wheelchair accessible.
LOCATION:Morristown Unitarian Fellowship 21 Normandy Heights Road Morristown\, NJ 07960
UID:e.870.14724
SEQUENCE:3
DTSTAMP:20260420T152710Z
URL:https://business.suburbanchambers.org/events/details/folk-project-presents-benefit-concert-for-muf-12-21-2018-14724
END:VEVENT

END:VCALENDAR
