BEGIN:VCALENDAR
VERSION:2.0
PRODID:-//ChamberMaster//Event Calendar 2.0//EN
METHOD:PUBLISH
X-PUBLISHED-TTL:P3D
REFRESH-INTERVAL:P3D
CALSCALE:GREGORIAN
BEGIN:VEVENT
DTSTART:20180601T120000Z
DTEND:20180601T133000Z
X-MICROSOFT-CDO-ALLDAYEVENT:FALSE
SUMMARY:First Friday - "The Memory Switch" with Matt Goerke
DESCRIPTION:"There is no such thing as a bad memory - just an untrained one"\n\nGood memory can help you appear to be smarter\, more prepared-even indispensable-in the  competitive world of business. It's the key to success for all ages. When your memory is sharp\, you're more efficient\, less stressed and you feel more confident especially as you get older. \n\nJoin us and learn how to "flip your switch"!
X-ALT-DESC;FMTTYPE=text/html:<span style="font-family: tahoma\; font-size: 14px\;">&quot\;There is no such thing as a bad memory - just an untrained one&quot\;</span><br />\n<span style="color: rgb(76\, 76\, 76)\; font-family: Raleway\, sans-serif\; font-size: 14px\; text-align: center\;">Good memory can help you appear to be smarter\, more prepared-even indispensable-in the&nbsp\; competitive world of business. It&#39\;s the key to success for all ages. When your memory is sharp\, you&#39\;re more efficient\, less stressed and you feel more confident especially as you get older.&nbsp\;</span><br />\nJoin us and learn how to &quot\;flip your switch&quot\;!
LOCATION:The Grand Summit Hotel 570 Springfield Avenue Summit\, NJ 07901
UID:e.870.9640
SEQUENCE:3
DTSTAMP:20260421T095823Z
URL:https://business.suburbanchambers.org/events/details/first-friday-the-memory-switch-with-matt-goerke-9640
END:VEVENT

END:VCALENDAR
