BEGIN:VCALENDAR
VERSION:2.0
PRODID:-//ChamberMaster//Event Calendar 2.0//EN
METHOD:PUBLISH
X-PUBLISHED-TTL:P3D
REFRESH-INTERVAL:P3D
CALSCALE:GREGORIAN
BEGIN:VEVENT
DTSTART:20190405T120000Z
DTEND:20190405T133000Z
X-MICROSOFT-CDO-ALLDAYEVENT:FALSE
SUMMARY:First Friday - Speed Networking!
DESCRIPTION:Speed Networking is the method to make new connections in a fun\, fast and highly-effective way.\n\nWhat to expect:\n\n  Participants are paired up for a series of exchanges with up to 39 other attendees (event limited to 40 attendees)\n\n  You'll each give your 30-second introduction (Be prepared!)\n\n  Exchange business cards and schedule as many One-2-One follow ups as you want \n\nEvent Emcee (and Traffic Cop)Tommy Hilcken\, Sandler Training\, tommy.hilcken@sandler.com
X-ALT-DESC;FMTTYPE=text/html:<strong>Speed Networking is the method to make new connections in a fun\, fast and highly-effective way.</strong><br />\nWhat to expect:<br />\n&#61623\; Participants are paired up for a series of exchanges with up to 39 other attendees (event limited to 40 attendees)<br />\n&#61623\; You&rsquo\;ll each give your 30-second introduction (Be prepared!)<br />\n&#61623\; Exchange business cards and schedule as many One-2-One follow ups as you want&nbsp\;<br />\n<strong>Event Emcee (and Traffic Cop)Tommy Hilcken\, Sandler Training\, tommy.hilcken@sandler.com</strong>
LOCATION:The Grand Summit Hotel 570 Springfield Avenue Summit\, NJ 07901
UID:e.870.14294
SEQUENCE:3
DTSTAMP:20260419T230634Z
URL:https://business.suburbanchambers.org/events/details/first-friday-speed-networking-14294
END:VEVENT

END:VCALENDAR
