BEGIN:VCALENDAR
VERSION:2.0
PRODID:-//ChamberMaster//Event Calendar 2.0//EN
METHOD:PUBLISH
X-PUBLISHED-TTL:P3D
REFRESH-INTERVAL:P3D
CALSCALE:GREGORIAN
BEGIN:VEVENT
DTSTART:20180907T120000Z
DTEND:20180907T133000Z
X-MICROSOFT-CDO-ALLDAYEVENT:FALSE
SUMMARY:First Friday - September 7 - Casey Carpenter\, "Techniques and Magic Words that take the Work out of Selling"
DESCRIPTION:"Techniques and Magic Words that take the Work out of Selling"\n\n \n\n1) Opening the sales conversation with ease\n\n2) Transitioning from small talk to business dialogue\n\n3) Asking powerful questions to deepen the dialogue\n\n4) Closing the deal and asking for commitment naturally\, without sounding pushy or salesy
X-ALT-DESC;FMTTYPE=text/html:<span style="color:#4B0082\;"><strong><span style="font-family:times new roman\,serif\;"><span style="font-size:12.0pt\;">&quot\;Techniques and Magic Words that take the Work out of Selling&quot\;</span></span></strong><br />\n&nbsp\;<br />\n<span style="font-family:times new roman\,serif\;"><span style="font-size:12.0pt\;">1) Opening the sales conversation with ease</span></span><br />\n<span style="font-family:times new roman\,serif\;"><span style="font-size:12.0pt\;">2) Transitioning from small talk to business dialogue</span></span><br />\n<span style="font-family:times new roman\,serif\;"><span style="font-size:12.0pt\;">3) Asking powerful questions to deepen the dialogue</span></span><br />\n<span style="font-family:times new roman\,serif\;"><span style="font-size:12.0pt\;">4) Closing the deal and asking for commitment naturally\, without sounding pushy or salesy</span></span></span>
LOCATION:The Grand Summit Hotel 570 Springfield Avenue Summit\, NJ 07901
UID:e.870.14287
SEQUENCE:3
DTSTAMP:20260421T010806Z
URL:https://business.suburbanchambers.org/events/details/first-friday-september-7-casey-carpenter-techniques-and-magic-words-that-take-the-work-out-of-selling-14287
END:VEVENT

END:VCALENDAR
