BEGIN:VCALENDAR
VERSION:2.0
PRODID:-//ChamberMaster//Event Calendar 2.0//EN
METHOD:PUBLISH
X-PUBLISHED-TTL:P3D
REFRESH-INTERVAL:P3D
CALSCALE:GREGORIAN
BEGIN:VEVENT
DTSTART:20180406T120000Z
DTEND:20180406T133000Z
X-MICROSOFT-CDO-ALLDAYEVENT:FALSE
SUMMARY:First Friday - NJ Sharing Network\, growth of an organization\, "sharing" to help you grow!
DESCRIPTION:Kelly Bonventre\, Manager\, Philanthropy and Foundation Programs for New Jersey Sharing Network\,will "share" with us the growth of this important organization\, and how they got there\, NJ Sharing Network's goal is to educate New Jersey residents about the life-saving benefits of organ and tissue donation and transplantation.   By working closely with hospitals and transplant centers\, and increasing awareness with education tools and the media\, the number of organs recovered in New Jersey for transplant has quadrupled since NJ Sharing Network was founded in 1987.\n\nApril is National Organ Donation Awareness Month.
X-ALT-DESC;FMTTYPE=text/html:<span style="font-size:14px\;"><span style="font-family:arial\;"><strong>Kelly Bonventre\, </strong>Manager\, Philanthropy and Foundation Programs for New Jersey Sharing Network\,will &quot\;share&quot\; with us the growth of this&nbsp\;important organization\, and how they got there\,&nbsp\;NJ Sharing Network&#39\;s goal is to educate New Jersey residents about the life-saving benefits of organ and tissue donation and transplantation.&nbsp\;&nbsp\;&nbsp\;<span style="background-color:#ffffff\;">By working closely with hospitals and transplant centers\, and increasing awareness with education tools and the media\, the number of organs recovered in New Jersey for transplant has quadrupled since NJ Sharing Network was founded in 1987.<br />\nApril is National Organ Donation Awareness Month.</span></span></span><br />\n&nbsp\;
LOCATION:The Grand Summit Hotel 570 Springfield Avenue Summit\, NJ 07901
UID:e.870.9638
SEQUENCE:3
DTSTAMP:20260421T160920Z
URL:https://business.suburbanchambers.org/events/details/first-friday-nj-sharing-network-growth-of-an-organization-sharing-to-help-you-grow-9638
END:VEVENT

END:VCALENDAR
