BEGIN:VCALENDAR
VERSION:2.0
PRODID:-//ChamberMaster//Event Calendar 2.0//EN
METHOD:PUBLISH
X-PUBLISHED-TTL:P3D
REFRESH-INTERVAL:P3D
CALSCALE:GREGORIAN
BEGIN:VEVENT
DTSTART:20230106T130000Z
DTEND:20230106T143000Z
X-MICROSOFT-CDO-ALLDAYEVENT:FALSE
SUMMARY:First Friday Networking: "Annual Financial Forecast and Year in Review!" with David Dietze
DESCRIPTION:David Dietze\, JD\, CFA\, CFP\, Managing Principal\, Senior Investment Strategist\, of Peapack Private Wealth Management\, with $9.3 billion under management and located in Summit\, will kick off the New Year with his annual financial presentation to the Chamber.   This valuable interactive presentation will help get you and your business ready to profit and prosper in 2023.\n\n"          Inflation:  How high is high and how do you protect your assets?\n\n"          Federal Reserve:  When will the interest rate hikes stop and how to position yourself!\n\n"          2022 Bear Market:  Is there any end in sight?\n\n"          Review of 2022 Investment Landscape:  Who made money and why!\n\n"          Wall Street Outlook 2023:  What are the best opportunities for your 401K/IRA and other investment accounts!\n\n \n\nAbout Peapack Private Wealth Management:  PPWM helps its clients realize their financial dreams\, including retirement income strategies\, portfolio investment advice\, and tax savvy financial planning.  David founded in 1993 Point View Wealth Management (PVWM)\, an SEC registered investment adviser\, which became part of Peapack-Gladstone Bank in 2019.
X-ALT-DESC;FMTTYPE=text/html:<div>David Dietze\, JD\, CFA\, CFP\, Managing Principal\, Senior Investment Strategist\, of Peapack Private Wealth Management\, with $9.3 billion under management and located in Summit\, will kick off the New Year with his annual financial presentation to the Chamber.&nbsp\; &nbsp\;This valuable interactive presentation will help get you and your business ready to profit and prosper in 2023.</div>\n\n<div>&quot\;<span style="white-space:pre"> </span>&nbsp\; &nbsp\; &nbsp\; &nbsp\; &nbsp\;Inflation:&nbsp\; How high is high and how do you protect your assets?</div>\n\n<div>&quot\;<span style="white-space:pre"> </span>&nbsp\; &nbsp\; &nbsp\; &nbsp\; &nbsp\;Federal Reserve:&nbsp\; When will the interest rate hikes stop and how to position yourself!</div>\n\n<div>&quot\;<span style="white-space:pre"> </span>&nbsp\; &nbsp\; &nbsp\; &nbsp\; &nbsp\;2022 Bear Market:&nbsp\; Is there any end in sight?</div>\n\n<div>&quot\;<span style="white-space:pre"> </span>&nbsp\; &nbsp\; &nbsp\; &nbsp\; &nbsp\;Review of 2022 Investment Landscape:&nbsp\; Who made money and why!</div>\n\n<div>&quot\;<span style="white-space:pre"> </span>&nbsp\; &nbsp\; &nbsp\; &nbsp\; &nbsp\;Wall Street Outlook 2023:&nbsp\; What are the best opportunities for your 401K/IRA and other investment accounts!</div>\n\n<div>&nbsp\;</div>\n\n<div>About Peapack Private Wealth Management:&nbsp\; PPWM helps its clients realize their financial dreams\, including retirement income strategies\, portfolio investment advice\, and tax savvy financial planning.&nbsp\; David founded in 1993 Point View Wealth Management (PVWM)\, an SEC registered investment adviser\, which became part of Peapack-Gladstone Bank in 2019.</div>\n
LOCATION:The Broadway Diner 55 River Road\, Summit
UID:e.870.18305
SEQUENCE:3
DTSTAMP:20260421T230415Z
URL:https://business.suburbanchambers.org/events/details/first-friday-networking-annual-financial-forecast-and-year-in-review-with-david-dietze-18305
END:VEVENT

END:VCALENDAR
