BEGIN:VCALENDAR
VERSION:2.0
PRODID:-//ChamberMaster//Event Calendar 2.0//EN
METHOD:PUBLISH
X-PUBLISHED-TTL:P3D
REFRESH-INTERVAL:P3D
CALSCALE:GREGORIAN
BEGIN:VEVENT
DTSTART:20230203T130000Z
DTEND:20230203T143000Z
X-MICROSOFT-CDO-ALLDAYEVENT:FALSE
SUMMARY:First Friday - Mayors Roundtable At The Hub Murray Hill (Formerly The Murray Hill Inn)
DESCRIPTION:Join us as we welcome our three communities Mayors\, Mayor Nora Radest of Summit\, Mayor Al Morgan of New Providence and Mayor Angie Devanney of Berkeley Heights\, to share their goals and objectives for 2023 and 2022 accomplishments -- This Annual Event has become one of our most popular First Friday Events! \n\nWe promise to leave plenty of time\, after their presentations for questions and discussion.
X-ALT-DESC;FMTTYPE=text/html:<span style="font-size:16px\;">Join us as we welcome our three communities Mayors\,&nbsp\;Mayor Nora Radest of Summit\, Mayor Al Morgan of New Providence and Mayor Angie Devanney of Berkeley Heights\,&nbsp\;to share their goals and objectives for 2023 and 2022 accomplishments -- This Annual Event has become one of our most popular First Friday Events!&nbsp\;<br />\nWe promise to leave plenty of time\, after their presentations for questions and discussion.&nbsp\;&nbsp\;</span>
LOCATION:The Hub Murray Hill 535 Central Avenue New Providence\, NJ
UID:e.870.18316
SEQUENCE:3
DTSTAMP:20260423T202116Z
URL:https://business.suburbanchambers.org/events/details/first-friday-mayors-roundtable-at-the-hub-murray-hill-formerly-the-murray-hill-inn-18316
END:VEVENT

END:VCALENDAR
