BEGIN:VCALENDAR
VERSION:2.0
PRODID:-//ChamberMaster//Event Calendar 2.0//EN
METHOD:PUBLISH
X-PUBLISHED-TTL:P3D
REFRESH-INTERVAL:P3D
CALSCALE:GREGORIAN
BEGIN:VEVENT
DTSTART:20190201T130000Z
DTEND:20190201T143000Z
X-MICROSOFT-CDO-ALLDAYEVENT:FALSE
SUMMARY:First Friday - Mayors Roundtable
DESCRIPTION:Join us as we welcome our three communities Mayors\, Mayor Nora Radest of Summit\, Mayor Al Morgan of New Providence and welcoming new Mayor Angie Devanney of Berkeley Heights\, to share their goals and objectives for 2019 -- This Annual Event has become one of our most popular First Friday Events! \n\nWe promise to leave plenty of time\, after their presentations for questions and discussion.
X-ALT-DESC;FMTTYPE=text/html:<span style="font-size:16px\;">Join us as we welcome our three communities Mayors\,&nbsp\;Mayor Nora Radest of Summit\, Mayor Al Morgan of New Providence and welcoming new Mayor Angie Devanney of Berkeley Heights\,&nbsp\;to share their goals and objectives for 2019 -- This Annual Event has become one of our most popular First Friday Events!&nbsp\;<br />\nWe promise to leave plenty of time\, after their presentations for questions and discussion.&nbsp\;&nbsp\;</span>
LOCATION:The Grand Summit Hotel 570 Springfield Avenue Summit\, NJ 07901
UID:e.870.14292
SEQUENCE:3
DTSTAMP:20260420T075729Z
URL:https://business.suburbanchambers.org/events/details/first-friday-mayors-roundtable-02-01-2019-14292
END:VEVENT

END:VCALENDAR
