BEGIN:VCALENDAR
VERSION:2.0
PRODID:-//ChamberMaster//Event Calendar 2.0//EN
METHOD:PUBLISH
X-PUBLISHED-TTL:P3D
REFRESH-INTERVAL:P3D
CALSCALE:GREGORIAN
BEGIN:VEVENT
DTSTART:20190503T120000Z
DTEND:20190503T133000Z
X-MICROSOFT-CDO-ALLDAYEVENT:FALSE
SUMMARY:First Friday "District 21 Summit"with Senator Tom Kean Jr\, Assemblyman Jon Bramnick and Nancy Munoz
DESCRIPTION:Join us as we welcome our government leaders\, \n\nAssemblywoman Nancy Munoz\, Assemblyman Jon Bramnick \n\nand  Senator Tom Kean Jr.\, \, to share their goals and objectives and insight to New Jersey .  Come with questions\, we promise to leave plenty of time for questions and discussion.
X-ALT-DESC;FMTTYPE=text/html:<span style="font-weight:bold\;language:en-US\;"><span style="color:#333333\;"><span style="font-family:arial\;"><span style="font-size:16.0pt\;">Join us as we welcome our government leaders\,&nbsp\;</span></span></span></span><br>\n<span style="font-weight:bold\;language:en-US\;"><span style="font-family:calibri\;"><span style="font-size:16.0pt\;">Assemblywoman Nancy Munoz\, Assemblyman Jon Bramnick </span></span></span><br>\n<span style="font-weight:bold\;language:en-US\;"><span style="font-family:calibri\;"><span style="font-size:16.0pt\;">and&nbsp\; Senator Tom Kean Jr.\, \,&nbsp\;</span></span></span><span style="font-weight:bold\;language:en-US\;"><span style="color:#333333\;"><span style="font-family:arial\;"><span style="font-size:16.0pt\;">to share their goals and objectives and insight to New Jersey .&nbsp\; Come with questions\, we promise to leave plenty of time for questions and discussion</span></span></span></span><span style="language:en-US\;"><span style="color:#333333\;"><span style="font-family:arial\;"><span style="font-size:16.0pt\;">.</span></span></span></span><br>\n&nbsp\;
LOCATION:The Grand Summit Hotel 570 Springfield Avenue Summit\, NJ 07901
UID:e.870.14295
SEQUENCE:3
DTSTAMP:20260419T191634Z
URL:https://business.suburbanchambers.org/events/details/first-friday-district-summit-with-senator-tom-kean-jr-assemblyman-jon-bramnick-and-nancy-munoz-14295
END:VEVENT

END:VCALENDAR
