BEGIN:VCALENDAR
VERSION:2.0
PRODID:-//ChamberMaster//Event Calendar 2.0//EN
METHOD:PUBLISH
X-PUBLISHED-TTL:P3D
REFRESH-INTERVAL:P3D
CALSCALE:GREGORIAN
BEGIN:VEVENT
DTSTART:20221202T130000Z
DTEND:20221202T140000Z
X-MICROSOFT-CDO-ALLDAYEVENT:FALSE
SUMMARY:First Friday December 2- Meet the Memory Guy! Matthew Goerke
DESCRIPTION:Meet the Memory Guy!\n\nMatthew Goerke\, Developer of "The Memory Switch"\n\nThe demands of a professional include remembering a wealth of knowledge including client information\, market data\, presentations\, and most importantly\, names... \n\nA simple slip of the mind can cost your company thousands of dollars in lost sales or credibility. \n\nFortunately there is a solution. TRAIN YOUR MEMORY.
X-ALT-DESC;FMTTYPE=text/html:<strong><span style="font-size:16px\;"><span style="color:#FF0000\;">Meet the Memory Guy!<br />\nMatthew Goerke\, Developer of &quot\;The Memory Switch&quot\;</span></span></strong><br />\n<span style="font-style:italic\;font-weight:bold\;language:en-US\;"><span style="color:#0033CC\;"><span style="font-family:tahoma\;"><span style="font-size:16.0pt\;">The demands of a professional include remembering a wealth of knowledge including client information\, market data\, presentations\, and most importantly\, names... </span></span></span></span><br />\n<span style="font-style:italic\;font-weight:bold\;language:en-US\;"><span style="color:#0033CC\;"><span style="font-family:tahoma\;"><span style="font-size:16.0pt\;">A simple slip of the mind can cost your company thousands of dollars in lost sales or credibility. </span></span></span></span><br />\n<span style="font-style:italic\;font-weight:bold\;language:en-US\;"><span style="color:#0033CC\;"><span style="font-family:tahoma\;"><span style="font-size:16.0pt\;">Fortunately there is a solution. TRAIN YOUR MEMORY.</span></span></span></span><br />\n&nbsp\;\n<p class="_04xlpA direction-ltr align-center para-style-body" style="line-height: 1.07\; letter-spacing: 0.025em\; font-family: &quot\;YACgEXvxf8Q 0&quot\;\, _fb_\, auto\; font-size: 16.16px\; color: rgb(0\, 0\, 0)\;">&nbsp\;</p>\n
LOCATION:tHE BROADWAY DINER 55 RIVER ROAD\, SUMMIT
UID:e.870.18297
SEQUENCE:3
DTSTAMP:20260421T231249Z
URL:https://business.suburbanchambers.org/events/details/first-friday-december-2-meet-the-memory-guy-matthew-goerke-18297
END:VEVENT

END:VCALENDAR
