BEGIN:VCALENDAR
VERSION:2.0
PRODID:-//ChamberMaster//Event Calendar 2.0//EN
METHOD:PUBLISH
X-PUBLISHED-TTL:P3D
REFRESH-INTERVAL:P3D
CALSCALE:GREGORIAN
BEGIN:VEVENT
DTSTART:20190104T130000Z
DTEND:20190104T143000Z
X-MICROSOFT-CDO-ALLDAYEVENT:FALSE
SUMMARY:First Friday - David Dietze\, our annual Financial Forecast!
DESCRIPTION:Point View Wealth Management's David Dietze\, JD\, CFA\, CFP\, Founder\, President and Chief Investment Strategist\, will kick off the New Year with his annual financial presentation to the Chamber.   This valuable interactive presentation will help get you and your business ready to profit and prosper in 2019.
X-ALT-DESC;FMTTYPE=text/html:<span style="color: rgb(51\, 51\, 51)\; font-size: 13px\; background-color: rgb(255\, 255\, 255)\; font-family: arial\, sans-serif\;"><span style="font-size: 12pt\;">Point View Wealth Management&#39\;s David Dietze\, JD\, CFA\, CFP\, Founder\, President and Chief Investment Strategist\, will kick off the New Year with his annual financial presentation to the Chamber.&nbsp\;&nbsp\; This valuable interactive presentation will help get you and your business ready to profit and prosper in 2019.</span></span>\n<div>&nbsp\;</div>\n\n<div>&nbsp\;</div>\n
LOCATION:The Grand Summit Hotel 570 Springfield Avenue Summit\, NJ 07901
UID:e.870.14291
SEQUENCE:3
DTSTAMP:20260420T113951Z
URL:https://business.suburbanchambers.org/events/details/first-friday-david-dietze-our-annual-financial-forecast-14291
END:VEVENT

END:VCALENDAR
