BEGIN:VCALENDAR
VERSION:2.0
PRODID:-//ChamberMaster//Event Calendar 2.0//EN
METHOD:PUBLISH
X-PUBLISHED-TTL:P3D
REFRESH-INTERVAL:P3D
CALSCALE:GREGORIAN
BEGIN:VEVENT
DTSTART:20230707T120000Z
DTEND:20230707T133000Z
X-MICROSOFT-CDO-ALLDAYEVENT:FALSE
SUMMARY:First Friday 7/7- Chamber Goes "Casual Friday"
DESCRIPTION:Join us for Summer Networking\, Casual Summer Friday!  \n\nNo agenda\, just join us for BYOB Breakfast and Make New Connections!\n\n \n\nWhy Attend First Friday?\n\nEDUCATION & NETWORK NETWORK NETWORK!\n\nATTENDEE INTRODUCTIONS-  tell everyone who you are!\n\nRECEIVE GUEST CONTACTS  register to be included!
X-ALT-DESC;FMTTYPE=text/html:<span style="font-weight:bold\;language:en-US\;"><span style="color:#241773\;"><span style="font-family:century gothic\;"><span style="font-size:16.0pt\;">Join us for Summer Networking\, Casual Summer Friday!&nbsp\; </span></span></span></span><br />\n<span style="font-weight:bold\;language:en-US\;"><span style="color:#241773\;"><span style="font-family:century gothic\;"><span style="font-size:16.0pt\;">No agenda\, just join us for BYOB Breakfast and Make New Connections!</span></span></span></span><br />\n&nbsp\;<br />\n<span style="font-weight:bold\;language:en-US\;"><span style="color:#CC0000\;"><span style="font-family:century gothic\;"><span style="font-size:16.0pt\;">Why </span></span></span></span><span style="font-weight:bold\;language:en-US\;"><span style="font-family:century gothic\;"><span style="font-size:16.0pt\;">Attend First Friday?</span></span></span><br />\n<span style="font-weight:bold\;language:en-US\;"><span style="font-family:century gothic\;"><span style="font-size:14.0pt\;">EDUCATION &amp\; NETWORK NETWORK NETWORK!</span></span></span><br />\n<span style="font-weight:bold\;language:en-US\;"><span style="font-family:century gothic\;"><span style="font-size:14.0pt\;">ATTENDEE INTRODUCTIONS-&nbsp\; tell everyone who you are!</span></span></span><br />\n<span style="font-weight:bold\;language:en-US\;"><span style="font-family:century gothic\;"><span style="font-size:14.0pt\;">RECEIVE GUEST CONTACTS&ndash\; register to be included!</span></span></span><br />\n&nbsp\;<br />\n&nbsp\;
LOCATION:The Broadway Diner\, 55 River Road\, Summit
UID:e.870.18401
SEQUENCE:3
DTSTAMP:20260422T091604Z
URL:https://business.suburbanchambers.org/events/details/first-friday-7-7-chamber-goes-casual-friday-18401
END:VEVENT

END:VCALENDAR
