BEGIN:VCALENDAR
VERSION:2.0
PRODID:-//ChamberMaster//Event Calendar 2.0//EN
METHOD:PUBLISH
X-PUBLISHED-TTL:P3D
REFRESH-INTERVAL:P3D
CALSCALE:GREGORIAN
BEGIN:VEVENT
DTSTART:20220603T120000Z
DTEND:20220603T133000Z
X-MICROSOFT-CDO-ALLDAYEVENT:FALSE
SUMMARY:First Friday 6/3-“Sexual Harassment and Sexual Violence in the Workplace and in government”
DESCRIPTION:Patricia Teffenhart\, SVP\, Strategic Initiatives\, NJ Chamber of Commerce\n\n \n\nJoin us for a casual\, and candid conversation with Patricia Teffenhart\, Senior Vice President of Strategic Initiatives with the New Jersey Chamber of Commerce. Prior to joining the State Chamber\, Patricia served for seven years as the executive director for the New Jersey Coalition Against Sexual Assault\, where she was a nationally recognized thought leader on all issues relating to sexual violence. This conversation will touch upon the intersection of harassment and misogyny in the world of government and politics\, giving us some food for thought about how to create safer\, more equitable practices within the business community. Topic will include: \n\n \n\n	Understanding the spectrum of sexual violence\n	Impact and prevalence of misogyny and harassment\n	Workplace policies and prevention
X-ALT-DESC;FMTTYPE=text/html:<strong>Patricia Teffenhart\, SVP\, Strategic Initiatives\, NJ Chamber of Commerce</strong><br />\n&nbsp\;<br />\n<span style="font-family:calibri\,sans-serif\;"><span style="font-size:11.0pt\;">Join us for a casual\, and candid conversation with Patricia Teffenhart\, Senior Vice President of Strategic Initiatives with the New Jersey Chamber of Commerce. Prior to joining the State Chamber\, Patricia served for seven years as the executive director for the New Jersey Coalition Against Sexual Assault\, where she was a nationally recognized thought leader on all issues relating to sexual violence. This conversation will touch upon the intersection of harassment and misogyny in the world of government and politics\, giving us some food for thought about how to create safer\, more equitable practices within the business community. Topic will include: </span></span><br />\n&nbsp\;\n<ol>\n	<li><span style="font-family:calibri\,sans-serif\;"><span style="font-size:11.0pt\;">Understanding the spectrum of sexual violence</span></span></li>\n	<li><span style="font-family:calibri\,sans-serif\;"><span style="font-size:11.0pt\;">Impact and prevalence of misogyny and harassment</span></span></li>\n	<li><span style="font-family:calibri\,sans-serif\;"><span style="font-size:11.0pt\;">Workplace policies and prevention</span></span></li>\n</ol>\n&nbsp\;<br />\n&nbsp\;
LOCATION:The Broadway Diner\, 55 River Road\, Summit
UID:e.870.17580
SEQUENCE:3
DTSTAMP:20260422T184528Z
URL:https://business.suburbanchambers.org/events/details/first-friday-6-3-sexual-harassment-and-sexual-violence-in-the-workplace-and-in-government-17580
END:VEVENT

END:VCALENDAR
