BEGIN:VCALENDAR
VERSION:2.0
PRODID:-//ChamberMaster//Event Calendar 2.0//EN
METHOD:PUBLISH
X-PUBLISHED-TTL:P3D
REFRESH-INTERVAL:P3D
CALSCALE:GREGORIAN
BEGIN:VEVENT
DTSTART:20180504T120000Z
DTEND:20180504T133000Z
X-MICROSOFT-CDO-ALLDAYEVENT:FALSE
SUMMARY:First Friday "There are only 6 Reasons why we network. What are they?" with Michael Goldberg
DESCRIPTION:In this discussion\, we will learn the 6 reasons to network\, and will include a "Human Bingo" activity  then debrief about networking fears and why they weren't really a factor in Human Bingo and how to relate to "real life" networking\, then create a networking action plan or "Networking Fight Plan (NFP)"!\n\nPresenter Michael Goldberg\, Founder of "Knockout Networking" will be "in the ring" to lead us on this interactive networking fight plan
X-ALT-DESC;FMTTYPE=text/html:<span style="font-size: 10.5pt\; font-family: Tahoma\, sans-serif\;">In this discussion\, we will learn the 6 reasons to network\, and will include a &quot\;Human Bingo&quot\; activity&nbsp\; then</span><span style="font-size: 10pt\; font-family: Arial\, sans-serif\; background-image: initial\; background-position: initial\; background-size: initial\; background-repeat: initial\; background-attachment: initial\; background-origin: initial\; background-clip: initial\;"> debrief about networking fears and why they&nbsp\;</span><span class="scayt-misspell-word"><span style="font-size: 10pt\; font-family: Arial\, sans-serif\;">weren&#39\;t</span></span><span style="font-size: 10pt\; font-family: Arial\, sans-serif\; background-image: initial\; background-position: initial\; background-size: initial\; background-repeat: initial\; background-attachment: initial\; background-origin: initial\; background-clip: initial\;">&nbsp\;really a factor in Human Bingo and how to relate to &ldquo\;real life&rdquo\; networking\, then create a networking action plan or &quot\;</span><span style="font-size: 11pt\; font-family: Calibri\, sans-serif\;">Networking Fight Plan (<span class="scayt-misspell-word">NFP</span>)</span><span style="font-size: 10pt\; font-family: Arial\, sans-serif\; background-image: initial\; background-position: initial\; background-size: initial\; background-repeat: initial\; background-attachment: initial\; background-origin: initial\; background-clip: initial\;">&quot\;!</span><br />\n<span style="font-size: 10pt\; font-family: Arial\, sans-serif\; background-image: initial\; background-position: initial\; background-size: initial\; background-repeat: initial\; background-attachment: initial\; background-origin: initial\; background-clip: initial\;">Presenter Michael Goldberg\, Founder of &quot\;Knockout Networking&quot\; will be &quot\;in the ring&quot\; to lead us on this interactive networking fight plan</span>
LOCATION:The Grand Summit Hotel 570 Springfield Avenue Summit\, NJ 07901
UID:e.870.9639
SEQUENCE:3
DTSTAMP:20260421T124430Z
URL:https://business.suburbanchambers.org/events/details/first-friday-05-04-2018-9639
END:VEVENT

END:VCALENDAR
