BEGIN:VCALENDAR
VERSION:2.0
PRODID:-//ChamberMaster//Event Calendar 2.0//EN
METHOD:PUBLISH
X-PUBLISHED-TTL:P3D
REFRESH-INTERVAL:P3D
CALSCALE:GREGORIAN
BEGIN:VEVENT
DTSTART:20221211T000000Z
DTEND:20221211T020000Z
X-MICROSOFT-CDO-ALLDAYEVENT:FALSE
SUMMARY:Festival of Trees Preview Cocktail Party
DESCRIPTION:On the eve of our Festival of Trees\, come enjoy a "spirited" celebration in the historic Wisner House by sampling a collection of cocktails and desserts representing various customs enjoyed during the holiday season. You'll be invited to take a winter walk and get a "first look" at the lighted trees being featured at Sunday's Festival. A magnificent tree decorated by a local designer will also be auctioned off. Music and merriment will round out this special evening. This event is for adults 21+
X-ALT-DESC;FMTTYPE=text/html:On the eve of our Festival of Trees\, come enjoy a &ldquo\;spirited&rdquo\; celebration in the historic Wisner House by sampling a collection of cocktails and desserts representing various customs enjoyed during the holiday season. You&#39\;ll be invited to take a winter walk and get a &quot\;first look&quot\; at the lighted trees being featured at Sunday&#39\;s Festival. A magnificent tree decorated by a local designer will also be auctioned off. Music and merriment will round out this special evening. This event is for adults 21+
LOCATION:Reeves-Reed Arboretum 165 Hobart Avenue Summit\, NJ 07901
UID:e.870.18299
SEQUENCE:3
DTSTAMP:20260422T024135Z
URL:https://business.suburbanchambers.org/events/details/festival-of-trees-preview-cocktail-party-18299
END:VEVENT

END:VCALENDAR
