BEGIN:VCALENDAR
VERSION:2.0
PRODID:-//ChamberMaster//Event Calendar 2.0//EN
METHOD:PUBLISH
X-PUBLISHED-TTL:P3D
REFRESH-INTERVAL:P3D
CALSCALE:GREGORIAN
BEGIN:VEVENT
DTSTART:20221211T160000Z
DTEND:20221211T200000Z
X-MICROSOFT-CDO-ALLDAYEVENT:FALSE
SUMMARY:Festival of Trees
DESCRIPTION:Join us for this outdoor winter festival celebrating Kwanzaa\, Hanukkah\, Christmas\, and the Winter Solstice! The day's activities will include arts and crafts\, games\, stories\, musical entertainment\, a story walk\, photo opportunities with Santa\, as well as food vendors and a holiday market. And don't forget to tour our festival trees located throughout the grounds - all decorated by local non-profits\, families\, school and scout groups\, as well as local businesses. The creativity and fun themes make this day extra special. Vote for your favorite one!
X-ALT-DESC;FMTTYPE=text/html:Join us for this outdoor winter festival celebrating Kwanzaa\, Hanukkah\, Christmas\, and the Winter Solstice! The day&rsquo\;s activities will include arts and crafts\, games\, stories\, musical entertainment\, a story walk\, photo opportunities with Santa\, as well as food vendors and a holiday market. And don&rsquo\;t forget to tour our festival trees located throughout the grounds - all decorated by local non-profits\, families\, school and scout groups\, as well as local businesses. The creativity and fun themes make this day extra special. Vote for your favorite one!
LOCATION:Reeves-Reed Arboretum 165 Hobart Avenue Summit\, NJ 07901
UID:e.870.18298
SEQUENCE:3
DTSTAMP:20260422T023456Z
URL:https://business.suburbanchambers.org/events/details/festival-of-trees-18298
END:VEVENT

END:VCALENDAR
