BEGIN:VCALENDAR
VERSION:2.0
PRODID:-//ChamberMaster//Event Calendar 2.0//EN
METHOD:PUBLISH
X-PUBLISHED-TTL:P3D
REFRESH-INTERVAL:P3D
CALSCALE:GREGORIAN
BEGIN:VEVENT
DTSTART:20190309T160000Z
DTEND:20190309T173000Z
X-MICROSOFT-CDO-ALLDAYEVENT:FALSE
SUMMARY:Fencing Classes
DESCRIPTION:Were you ever interested in Fencing? A brand new fencing club right here in Summit is offering fencing classes! Every Saturday at 11:00AM is our beginners class. Come give it a try! Fencing is one of the top scholarship sports in the country and can greatly enhance your child's chances of getting accepted into the country's top schools!
X-ALT-DESC;FMTTYPE=text/html:Were you ever interested in Fencing? A brand new fencing club right here in Summit is offering fencing classes! Every Saturday at 11:00AM is our beginners class. Come give it a try! Fencing is one of the top scholarship sports in the country and can greatly enhance your child&#39\;s chances of getting accepted into the country&#39\;s top schools!
LOCATION:Calvary Episcopal Church (31 Woodland Ave)
UID:e.870.15381
SEQUENCE:3
DTSTAMP:20260420T034109Z
URL:https://business.suburbanchambers.org/events/details/fencing-classes-15381
END:VEVENT

END:VCALENDAR
