BEGIN:VCALENDAR
VERSION:2.0
PRODID:-//ChamberMaster//Event Calendar 2.0//EN
METHOD:PUBLISH
X-PUBLISHED-TTL:P3D
REFRESH-INTERVAL:P3D
CALSCALE:GREGORIAN
BEGIN:VEVENT
DTSTART:20221213T003000Z
DTEND:20221213T020000Z
X-MICROSOFT-CDO-ALLDAYEVENT:FALSE
SUMMARY:FDU Winter Festival Concert
DESCRIPTION:Fairleigh Dickinson University's School of the Arts presents the annual FDU Winter Festival Concert on Monday\, December 12th\, 2022\, at 7:30 pm\, in Dreyfuss Theater on the FDU Campus\, at 285 Madison Avenue in Madison\, NJ. The program includes a wide variety of classical\, popular\, and seasonal music. Performers include the FDU Band\, the FDU Chorus\, and members of the music faculty: Mariana Karpatova\, voice\; Ansy Francois\, woodwinds\; Peter Toth\, piano\; Elzbieta Winnicki\, violin\; Jane Seaman\, voice\; Allen Cohen\, piano. Admission is $5\, but free for students with ID.
X-ALT-DESC;FMTTYPE=text/html:Fairleigh Dickinson University&#39\;s School of the Arts presents the annual FDU Winter Festival Concert on Monday\, December 12th\, 2022\, at 7:30 pm\, in Dreyfuss Theater on the FDU Campus\, at 285 Madison Avenue in Madison\, NJ. The program includes a wide variety of classical\, popular\, and seasonal music. Performers include the FDU Band\, the FDU Chorus\, and members of the music faculty: Mariana Karpatova\, voice\; Ansy Francois\, woodwinds\; Peter Toth\, piano\; Elzbieta Winnicki\, violin\; Jane Seaman\, voice\; Allen Cohen\, piano. Admission is $5\, but free for students with ID.
LOCATION:Dreyfuss Theater
UID:e.870.18300
SEQUENCE:3
DTSTAMP:20260421T231603Z
URL:https://business.suburbanchambers.org/events/details/fdu-winter-festival-concert-18300
END:VEVENT

END:VCALENDAR
