BEGIN:VCALENDAR
VERSION:2.0
PRODID:-//ChamberMaster//Event Calendar 2.0//EN
METHOD:PUBLISH
X-PUBLISHED-TTL:P3D
REFRESH-INTERVAL:P3D
CALSCALE:GREGORIAN
BEGIN:VEVENT
DTSTART:20180920T210000Z
DTEND:20180920T233000Z
X-MICROSOFT-CDO-ALLDAYEVENT:FALSE
SUMMARY:Fashion Food Fun and More!! Network at Macy's Short Hills!
DESCRIPTION:Join us for an evening of Fashion\, Food\, Fun\, and much more...!!\n\nNetwork with local business leaders  and connect with MyStylist Team to learn about the \n\ncomplimentary personal shopping service offered to clients!\n\nBring your business cards for Two Fragrance basket Raffles!\n\nWith your first purchase receive a cosmetic bag and samples!
X-ALT-DESC;FMTTYPE=text/html:<span style="font-size:16px\;"><span style="color:#FF0000\;"><span style="font-weight:bold\;language:en-US\;"><span style="font-family:albertus extra bold\;">Join us for an evening of Fashion\, Food\, Fun\, and much more...!!</span></span><br />\n<span style="font-weight:bold\;language:en-US\;"><span style="font-family:albertus extra bold\;">Network with local business leaders&nbsp\; and connect with </span></span><span style="font-weight:bold\;language:en-US\;"><span style="font-family:albertus extra bold\;"><em>MyStylist Team</em> to learn about the </span></span><br />\n<span style="font-weight:bold\;language:en-US\;"><span style="font-family:albertus extra bold\;">complimentary personal shopping service offered to clients!</span></span><br />\n<span style="font-weight:bold\;language:en-US\;"><span style="font-family:albertus extra bold\;">Bring your business cards for Two Fragrance basket Raffles!</span></span><br />\n<span style="font-weight:bold\;language:en-US\;"><span style="font-family:albertus extra bold\;">With your first purchase receive a cosmetic bag and samples</span></span><span style="font-weight:bold\;language:en-US\;"><span style="font-family:albertus extra bold\;">!</span></span></span><br />\n&nbsp\;</span><br />\n<br />\n&nbsp\;
LOCATION:Macy's Short Hills Second Floor
UID:e.870.14111
SEQUENCE:3
DTSTAMP:20260421T011324Z
URL:https://business.suburbanchambers.org/events/details/fashion-food-fun-and-more-network-at-macy-s-short-hills-14111
END:VEVENT

END:VCALENDAR
