BEGIN:VCALENDAR
VERSION:2.0
PRODID:-//ChamberMaster//Event Calendar 2.0//EN
METHOD:PUBLISH
X-PUBLISHED-TTL:P3D
REFRESH-INTERVAL:P3D
CALSCALE:GREGORIAN
BEGIN:VEVENT
DTSTART:20190127T010000Z
DTEND:20190127T040000Z
X-MICROSOFT-CDO-ALLDAYEVENT:FALSE
SUMMARY:Family Promise 80's Party
DESCRIPTION:Relive your 80's while supporting a good cause. Join us for a night of food\, dancing and fun for Family Promise.
X-ALT-DESC;FMTTYPE=text/html:Relive your 80&#39\;s while supporting a good cause. Join us for a night of food\, dancing and fun for Family Promise.
LOCATION:Elks Lodge Summit\,NJ
UID:e.870.15262
SEQUENCE:3
DTSTAMP:20260420T145929Z
URL:https://business.suburbanchambers.org/events/details/family-promise-80-s-party-15262
END:VEVENT

END:VCALENDAR
