BEGIN:VCALENDAR
VERSION:2.0
PRODID:-//ChamberMaster//Event Calendar 2.0//EN
METHOD:PUBLISH
X-PUBLISHED-TTL:P3D
REFRESH-INTERVAL:P3D
CALSCALE:GREGORIAN
BEGIN:VEVENT
DTSTART:20181014T203000Z
DTEND:20181014T223000Z
X-MICROSOFT-CDO-ALLDAYEVENT:FALSE
SUMMARY:Family Dinner Project
DESCRIPTION:The Summit Area YMCA will host its second "Family Dinner Project" this Fall. This event will bring families together in our community to prepare a healthy meal and play games. Parents will learn fun ways to improve the frequency and quality of their mealtime interactions.
X-ALT-DESC;FMTTYPE=text/html:The Summit Area YMCA will host its second &ldquo\;Family Dinner Project&rdquo\; this Fall. This event will bring families together in our community to prepare a healthy meal and play games. Parents will learn fun ways to improve the frequency and quality of their mealtime interactions.
LOCATION:Central Presbyterian Church 70 Maple Street Summit NJ
UID:e.870.14138
SEQUENCE:3
DTSTAMP:20260420T215701Z
URL:https://business.suburbanchambers.org/events/details/family-dinner-project-14138
END:VEVENT

END:VCALENDAR
