BEGIN:VCALENDAR
VERSION:2.0
PRODID:-//ChamberMaster//Event Calendar 2.0//EN
METHOD:PUBLISH
X-PUBLISHED-TTL:P3D
REFRESH-INTERVAL:P3D
CALSCALE:GREGORIAN
BEGIN:VEVENT
DTSTART:20190112T180000Z
DTEND:20190112T193000Z
X-MICROSOFT-CDO-ALLDAYEVENT:FALSE
SUMMARY:Family Arboretum Challenge at Reeves-Reed Arboretum
DESCRIPTION:(for families with children ages 4 and up) Equipped with a map and compass\, families will head out into the gardens and woodlands in search of hidden clues. Once completed\, head inside for some hot chocolate and work together to decipher the code. A great activity to exercise your child's problem solving skills! Registration is required. Please note that cost is per family. Snow date is Saturday\, January 19 from 1:00 pm to 2:00 pm. Date/Time: Saturday\, January 12\, 1:00pm - 2:30pm. Location:  Reeves-Reed Arboretum\, 165 Hobart Ave.\, Summit\, NJ 07901 Ages:  4 and up Cost:  Members: $15\, Non-Members: $25/Family Pre-Registration:  Required. On-Line Registration:  Visit our website? More Information:  RRA Website? Contact:  Doreen Schindler\, D.Schindler@Reeves-ReedArboretum.org\, (908) 273-8787 x1010.
X-ALT-DESC;FMTTYPE=text/html:(for families with children ages 4 and up) Equipped with a map and compass\, families will head out into the gardens and woodlands in search of hidden clues. Once completed\, head inside for some hot chocolate and work together to decipher the code. A great activity to exercise your child&#39\;s problem solving skills! Registration is required. Please note that cost is per family. Snow date is Saturday\, January 19 from 1:00 pm to 2:00 pm. Date/Time:&nbsp\;Saturday\, January 12\, 1:00pm - 2:30pm. Location:&nbsp\; Reeves-Reed Arboretum\, 165 Hobart Ave.\, Summit\, NJ 07901 Ages:&nbsp\; 4 and up Cost:&nbsp\; Members: $15\, Non-Members: $25/Family Pre-Registration:&nbsp\; Required. On-Line Registration:&nbsp\; Visit our website? More Information:&nbsp\; RRA Website? Contact:&nbsp\; Doreen Schindler\, D.Schindler@Reeves-ReedArboretum.org\, (908) 273-8787 x1010.
LOCATION:Reeves-Reed Arboretum\, 165 Hobart Ave.\, Summit\, NJ 07901
UID:e.870.14849
SEQUENCE:3
DTSTAMP:20260420T115927Z
URL:https://business.suburbanchambers.org/events/details/family-arboretum-challenge-at-reeves-reed-arboretum-14849
END:VEVENT

END:VCALENDAR
