BEGIN:VCALENDAR
VERSION:2.0
PRODID:-//ChamberMaster//Event Calendar 2.0//EN
METHOD:PUBLISH
X-PUBLISHED-TTL:P3D
REFRESH-INTERVAL:P3D
CALSCALE:GREGORIAN
BEGIN:VEVENT
DTSTART:20180926T140000Z
DTEND:20180926T160000Z
X-MICROSOFT-CDO-ALLDAYEVENT:FALSE
SUMMARY:Fall Prevention for Older Adults
DESCRIPTION:Presented in conjunction with Atlantic Healthcare System\, this group of experts will present ways to keep you safe and balanced. The program includes pedestrian safety\, walking supports\, rehabilitation information\, the benefits of exercise & yoga and a discussion about the side effects of medications as it relates to falling. Free blood pressure\, bone density and hearing screenings are included. Light refreshments will be served.
X-ALT-DESC;FMTTYPE=text/html:Presented in conjunction with Atlantic Healthcare System\, this group of experts will present ways to keep you safe and balanced. The program includes pedestrian safety\, walking supports\, rehabilitation information\, the benefits of exercise &amp\; yoga and a discussion about the side effects of medications as it relates to falling. Free blood pressure\, bone density and hearing screenings are included. Light refreshments will be served.
LOCATION:SAGE Eldercare 290 Broad Street Summit NJ 08901
UID:e.870.14353
SEQUENCE:3
DTSTAMP:20260421T040247Z
URL:https://business.suburbanchambers.org/events/details/fall-prevention-for-older-adults-14353
END:VEVENT

END:VCALENDAR
