BEGIN:VCALENDAR
VERSION:2.0
PRODID:-//ChamberMaster//Event Calendar 2.0//EN
METHOD:PUBLISH
X-PUBLISHED-TTL:P3D
REFRESH-INTERVAL:P3D
CALSCALE:GREGORIAN
BEGIN:VEVENT
DTSTART:20180905T173000Z
DTEND:20180905T190000Z
X-MICROSOFT-CDO-ALLDAYEVENT:FALSE
SUMMARY:Fall Garden Series (Adults) at Reeves-Reed Arboretum
DESCRIPTION:Know what your next steps will be before autumn starts! From planning your spring-flowering bulb order to fertilizing\, pruning\, and watering\, join Lead Horticulturist Julieanne Frascinella in this first presentation of a four part series on fall gardening. Registration is required.
X-ALT-DESC;FMTTYPE=text/html:Know what your next steps will be before autumn starts! From planning your spring-flowering bulb order to fertilizing\, pruning\, and watering\, join Lead Horticulturist Julieanne Frascinella in this first presentation of a four part series on fall gardening. Registration is required.&nbsp\;
LOCATION:Reeves-Reed Arboretum\, 165 Hobart Ave.\, Summit\, NJ 07901
UID:e.870.14375
SEQUENCE:3
DTSTAMP:20260421T011521Z
URL:https://business.suburbanchambers.org/events/details/fall-garden-series-adults-at-reeves-reed-arboretum-09-05-2018-14375
END:VEVENT

END:VCALENDAR
