BEGIN:VCALENDAR
VERSION:2.0
PRODID:-//ChamberMaster//Event Calendar 2.0//EN
METHOD:PUBLISH
X-PUBLISHED-TTL:P3D
REFRESH-INTERVAL:P3D
CALSCALE:GREGORIAN
BEGIN:VEVENT
DTSTART:20181027T160000Z
DTEND:20181027T200000Z
X-MICROSOFT-CDO-ALLDAYEVENT:FALSE
SUMMARY:Fall Family Festival
DESCRIPTION:The Arc of Union County\n\nFall Family Festival\n\nSaturday\, October 27\, 2018\n\n12 noon to 4pm\n\nat The Arc Family Center\n\n1137 Globe Avenue\n\nMountainside\, NJ\n\n \n\n \n\nCome for games\, snacks\, \n\narts & crafts \n\nand a fun Trunk or Treat!\n\n \n\n \n\nAdmission: $5.00 per person\n\n RSVP by October 22\, 2018 to Tatiana Szewczuk  at 908-518-0723\n\nwww.arcunion.org\n\nhttps://www.facebook.com/events/2360813137319305/?
X-ALT-DESC;FMTTYPE=text/html:<strong><span style="color:#FF9900"><span style="font-family:trebuchet ms"><span style="font-size:25.0pt"><span style="font-size:10px"><em>The Arc of Union County</em></span><br />\nFall Family Festival<br />\nSaturday\, October 27\, 2018</span></span></span></strong><br />\n<strong><span style="color:#FF9900"><span style="font-family:trebuchet ms"><span style="font-size:15.0pt">12 noon to 4pm</span></span></span></strong><br />\n<strong><span style="color:#FF9900"><span style="font-family:trebuchet ms"><span style="font-size:15.0pt">at The Arc Family Center</span></span></span></strong><br />\n<strong><span style="color:#FF9900"><span style="font-family:trebuchet ms"><span style="font-size:15.0pt">1137 Globe Avenue</span></span></span></strong><br />\n<strong><span style="color:#FF9900"><span style="font-family:trebuchet ms"><span style="font-size:15.0pt">Mountainside\, NJ</span></span></span></strong><br />\n&nbsp\;<br />\n&nbsp\;<br />\n<strong><span style="color:olive"><span style="font-family:trebuchet ms"><span style="font-size:25.0pt">Come for games\, snacks\, </span></span></span></strong><br />\n<strong><span style="color:olive"><span style="font-family:trebuchet ms"><span style="font-size:25.0pt">arts &amp\; crafts </span></span></span></strong><br />\n<strong><span style="color:olive"><span style="font-family:trebuchet ms"><span style="font-size:25.0pt">and a fun Trunk or Treat!</span></span></span></strong><br />\n&nbsp\;<br />\n&nbsp\;<br />\n<strong><span style="font-family:trebuchet ms"><span style="font-size:25.0pt">Admission: $5.00 per person</span></span></strong><br />\n<strong><span style="font-family:trebuchet ms"><span style="font-size:15.0pt">&nbsp\;RSVP by October 22\, 2018 </span></span></strong><strong><span style="font-family:trebuchet ms"><span style="font-size:15.0pt">to Tatiana Szewczuk&nbsp\; at 908-518-0723</span></span></strong><br />\n<strong><a href="http://www.arcunion.org">www.arcunion.org</a></strong><br />\n<a href="https://www.facebook.com/events/2360813137319305/">https://www.facebook.com/events/2360813137319305/?&nbsp\;</a><br />\n&nbsp\;
LOCATION:The Arc Family Center 1137 Globe Avenue Mountainside\, NJ
UID:e.870.14623
SEQUENCE:3
DTSTAMP:20260420T220552Z
URL:https://business.suburbanchambers.org/events/details/fall-family-festival-14623
END:VEVENT

END:VCALENDAR
