BEGIN:VCALENDAR
VERSION:2.0
PRODID:-//ChamberMaster//Event Calendar 2.0//EN
METHOD:PUBLISH
X-PUBLISHED-TTL:P3D
REFRESH-INTERVAL:P3D
CALSCALE:GREGORIAN
BEGIN:VEVENT
DTSTART:20180416T210000Z
DTEND:20180416T220000Z
X-MICROSOFT-CDO-ALLDAYEVENT:FALSE
SUMMARY:Fairy House Workshop at Reeves-Reed Arboretum
DESCRIPTION:Join us in celebrating the magic of fairies at this special workshop! Children will use their imagination to create whimsical fairy houses using recycled materials for the Arboretum grounds and to take home. Fairy houses will be displayed on our "Fairy Trail" created for our annual Daffodil Day celebration on Sunday\, April 22. This program is also offered on Thursday\, April 19.
X-ALT-DESC;FMTTYPE=text/html:Join us in celebrating the magic of fairies at this special workshop! Children will use their imagination to create whimsical fairy houses using recycled materials for the Arboretum grounds and to take home. Fairy houses will be displayed on our &quot\;Fairy Trail&quot\; created for our annual Daffodil Day celebration on Sunday\, April 22. This program is also offered on Thursday\, April 19.&nbsp\;
LOCATION:Reeves-Reed Arboretum 165 Hobart Ave. Summit\, NJ -7901
UID:e.870.11819
SEQUENCE:3
DTSTAMP:20260421T163229Z
URL:https://business.suburbanchambers.org/events/details/fairy-house-workshop-at-reeves-reed-arboretum-04-16-2018-11819
END:VEVENT

END:VCALENDAR
