BEGIN:VCALENDAR
VERSION:2.0
PRODID:-//ChamberMaster//Event Calendar 2.0//EN
METHOD:PUBLISH
X-PUBLISHED-TTL:P3D
REFRESH-INTERVAL:P3D
CALSCALE:GREGORIAN
BEGIN:VEVENT
DTSTART:20190408T170000Z
DTEND:20190408T180000Z
X-MICROSOFT-CDO-ALLDAYEVENT:FALSE
SUMMARY:Evaluating Cognitive Decline With Dr. Michelle Papka
DESCRIPTION:Dr. Michelle Papka will lead a discussion about how to talk with a loved one about needing a cognitive evaluation\, what to look for as far as cognitive decline that would warrant an evaluation and how to talk to your loved ones about it. Also learn what to do once you have a diagnosis.
X-ALT-DESC;FMTTYPE=text/html:Dr. Michelle Papka will lead a discussion about how to talk with a loved one about needing a cognitive evaluation\, what to look for as far as cognitive decline that would warrant an evaluation and how to talk to your loved ones about it. Also learn what to do once you have a diagnosis.&nbsp\;
LOCATION:SAGE Eldercare 290 Broad Street Summit
UID:e.870.15376
SEQUENCE:3
DTSTAMP:20260419T231843Z
URL:https://business.suburbanchambers.org/events/details/evaluating-cognitive-decline-with-dr-michelle-papka-15376
END:VEVENT

END:VCALENDAR
