BEGIN:VCALENDAR
VERSION:2.0
PRODID:-//ChamberMaster//Event Calendar 2.0//EN
METHOD:PUBLISH
X-PUBLISHED-TTL:P3D
REFRESH-INTERVAL:P3D
CALSCALE:GREGORIAN
BEGIN:VEVENT
DTSTART:20190424T120000Z
DTEND:20190424T143000Z
X-MICROSOFT-CDO-ALLDAYEVENT:FALSE
SUMMARY:Employment Practices Liability Insurance 101
DESCRIPTION:Lindabury\, McCormick\, Estabrook & Cooper\, The Branna Agency and Selective Insurance Company hosts this complimentary seminar providing guidance on the usage of EPLI and internal controls to mitigate claims in the era of #MeToo and #TimesUp.\n\nTopics to be discussed include:\n\n\n	The need to EPLI and what your policy should cover\n	Who is covered by your policy and who are potential claimants?\n	Examples of "wrongful acts"\n	Establishing procedures for reporting claims of harassment\, discrimination and more\n	Best practices for conducting an internal investigation of employee claims\n	Safe harbor protection of ongoing anti-harassment training
X-ALT-DESC;FMTTYPE=text/html:<p>Lindabury\, McCormick\, Estabrook &amp\; Cooper\, The Branna Agency and Selective Insurance Company hosts this complimentary seminar providing guidance on the usage of EPLI and internal controls to mitigate claims in the era of #MeToo and #TimesUp.</p>\n\n<p>Topics to be discussed include:</p>\n\n<ul>\n	<li>The need to EPLI and what your policy should cover</li>\n	<li>Who is covered by your policy and who are potential claimants?</li>\n	<li>Examples of &ldquo\;wrongful acts&rdquo\;</li>\n	<li>Establishing procedures for reporting claims of harassment\, discrimination and more</li>\n	<li>Best practices for conducting an internal investigation of employee claims</li>\n	<li>Safe harbor protection of ongoing anti-harassment training</li>\n</ul>\n
LOCATION:Shackamaxon Country Club 100 Tillinghast Turn Scotch Plains\, NJ 07076
UID:e.870.15453
SEQUENCE:3
DTSTAMP:20260419T234804Z
URL:https://business.suburbanchambers.org/events/details/employment-practices-liability-insurance-101-15453
END:VEVENT

END:VCALENDAR
