BEGIN:VCALENDAR
VERSION:2.0
PRODID:-//ChamberMaster//Event Calendar 2.0//EN
METHOD:PUBLISH
X-PUBLISHED-TTL:P3D
REFRESH-INTERVAL:P3D
CALSCALE:GREGORIAN
BEGIN:VEVENT
DTSTART:20190426T160000Z
DTEND:20190426T173000Z
X-MICROSOFT-CDO-ALLDAYEVENT:FALSE
SUMMARY:Eat Chocolate & Lose Weight - How to be a healthy chocoholic
DESCRIPTION:Fun interactive workshop & chocolate tasting!\n"Join us for a mouth-watering\, interactive workshop on all things chocolate. We'll take a look at the origin of chocolate and its health benefits\, including weight loss! Believe it or not\, there is a reason you crave chocolate and it could be related to your nutrient needs. Best of all  you can taste different qualities and types of delicious chocolate. YUM!\n\n\n\nPresented by Elizabeth Girouard\, Certified Integrative Nutrition Health Coach and Certified Master Workplace Wellness Ambassador\, Founder of Pure Simple Wellness and Zing Meals\n\n\n\nLearn to incorporate chocolate as part of your wellness strategy and enjoy various types and tastes of delicious chocolate!\n\n\n\nWith Elizabeth Girouard\, Certified Holistic Health Coach & Workplace Wellness Ambassador & the MyStylist at Macys Short Hills.\n\n\n\nEvent takes place on 2nd floor of Macys Short Hills 973-912-5655
X-ALT-DESC;FMTTYPE=text/html:Fun interactive workshop &amp\; chocolate tasting!\n<p><span style="background-color:white\; font-family:calibri\,sans-serif\,serif\,emojifont">&ldquo\;Join us for a mouth-watering\, interactive workshop on all things chocolate. We&rsquo\;ll take a look at the origin of chocolate and its health benefits\, including weight loss! Believe it or not\, there is a reason you crave chocolate and it could be related to your nutrient needs. Best of all &ndash\;you can taste different qualities and types of delicious chocolate. YUM!</span><br />\n<br />\n<span style="font-family:calibri\,sans-serif\,serif\,emojifont"><span style="background-color:white">Presented by Elizabeth Girouard\, <em><span style="font-family:calibri\,sans-serif\,serif\,emojifont">Certified Integrative Nutrition Health Coach and Certified Master Workplace Wellness Ambassador</span></em>\, Founder of Pure Simple Wellness and Zing Meals</span></span></p>\n\n<p><br />\nLearn to incorporate chocolate as part of your wellness strategy and enjoy various types and tastes of delicious chocolate!<br />\n<br />\nWith Elizabeth Girouard\, Certified Holistic Health Coach &amp\; Workplace Wellness Ambassador &amp\; the MyStylist at Macys Short Hills.<br />\n<br />\nEvent takes place on 2nd floor of Macys Short Hills 973-912-5655</p>\n
LOCATION:Macys MyStylist lounge\, 2nd floor of Macys in the Mall at Short Hills\, 1220 Morris Turnpike Short Hills\, NJ 07078
UID:e.870.15458
SEQUENCE:3
DTSTAMP:20260420T000932Z
URL:https://business.suburbanchambers.org/events/details/eat-chocolate-lose-weight-how-to-be-a-healthy-chocoholic-15458
END:VEVENT

END:VCALENDAR
