BEGIN:VCALENDAR
VERSION:2.0
PRODID:-//ChamberMaster//Event Calendar 2.0//EN
METHOD:PUBLISH
X-PUBLISHED-TTL:P3D
REFRESH-INTERVAL:P3D
CALSCALE:GREGORIAN
BEGIN:VEVENT
DTSTART:20190421T143000Z
DTEND:20190421T153000Z
X-MICROSOFT-CDO-ALLDAYEVENT:FALSE
SUMMARY:Easter Sunday Service
DESCRIPTION:Join us as we celebrate with every breath the gift of new life received in the resurrection of Jesus! 10:30 am in the Sanctuary
X-ALT-DESC;FMTTYPE=text/html:Join us as we celebrate with every breath the gift of new life received in the resurrection of Jesus! 10:30 am in the Sanctuary
LOCATION:The United Methodist Church of Summit 17 Kent Place Boulevard Summit\, NJ 07901
UID:e.870.15406
SEQUENCE:3
DTSTAMP:20260420T035314Z
URL:https://business.suburbanchambers.org/events/details/easter-sunday-service-04-21-2019-15406
END:VEVENT

END:VCALENDAR
