BEGIN:VCALENDAR
VERSION:2.0
PRODID:-//ChamberMaster//Event Calendar 2.0//EN
METHOD:PUBLISH
X-PUBLISHED-TTL:P3D
REFRESH-INTERVAL:P3D
CALSCALE:GREGORIAN
BEGIN:VEVENT
DTSTART:20180912T160000Z
DTEND:20180912T183000Z
X-MICROSOFT-CDO-ALLDAYEVENT:FALSE
SUMMARY:Duplicate Bridge at Summit YMCA
DESCRIPTION:Duplicate Bridge Game\, instructor onsite for quick lesson and questions during play. All area residents welcome
X-ALT-DESC;FMTTYPE=text/html:Duplicate Bridge Game\, instructor onsite for quick lesson and questions during play. All area residents welcome
LOCATION:Summit Area YMCA 67 Maple Street Summit NJ 07901
UID:e.870.14222
SEQUENCE:3
DTSTAMP:20260421T010025Z
URL:https://business.suburbanchambers.org/events/details/duplicate-bridge-at-summit-ymca-09-12-2018-14222
END:VEVENT

END:VCALENDAR
