BEGIN:VCALENDAR
VERSION:2.0
PRODID:-//ChamberMaster//Event Calendar 2.0//EN
METHOD:PUBLISH
X-PUBLISHED-TTL:P3D
REFRESH-INTERVAL:P3D
CALSCALE:GREGORIAN
BEGIN:VEVENT
DTSTART:20190509T180000Z
DTEND:20190509T190000Z
X-MICROSOFT-CDO-ALLDAYEVENT:FALSE
SUMMARY:Drop-In Craft: Make a Mother's Day Card
DESCRIPTION:Join us at our weekly drop in craft session and make a special card for your mom!
X-ALT-DESC;FMTTYPE=text/html:Join us at our weekly drop in craft session and make a special card for your mom!
LOCATION:New Providence Memorial Library
UID:e.870.15418
SEQUENCE:3
DTSTAMP:20260419T191635Z
URL:https://business.suburbanchambers.org/events/details/drop-in-craft-make-a-mother-s-day-card-15418
END:VEVENT

END:VCALENDAR
