BEGIN:VCALENDAR
VERSION:2.0
PRODID:-//ChamberMaster//Event Calendar 2.0//EN
METHOD:PUBLISH
X-PUBLISHED-TTL:P3D
REFRESH-INTERVAL:P3D
CALSCALE:GREGORIAN
BEGIN:VEVENT
DTSTART:20180616T130000Z
DTEND:20180616T170000Z
X-MICROSOFT-CDO-ALLDAYEVENT:FALSE
SUMMARY:Discovery Saturdays at Reeves-Reed Arboretum
DESCRIPTION:This week's topic: Water Lilies! Make a discovery at the Arboretum and enjoy a unique family experience. Drop by the Stackhouse Education Center on Saturdays\, any time between 9:00 am and 1:00 pm\, for an interactive exploration of nature. Each week discover a new plant\, animal or environmental topic through experiments\, stories\, games\, and crafts. Borrow an Arboretum backpack loaded with binoculars\, field guides\, a magnifying glass and everything else needed for outdoor Arboretum adventure! No pre-registration is necessary. Adults must be accompanied by a child!   Pre Registration: NONE
X-ALT-DESC;FMTTYPE=text/html:This week&#39\;s topic: Water Lilies! Make a discovery at the Arboretum and enjoy a unique family experience. Drop by the Stackhouse Education Center on Saturdays\, any time between 9:00 am and 1:00 pm\, for an interactive exploration of nature. Each week discover a new plant\, animal or environmental topic through experiments\, stories\, games\, and crafts. Borrow an Arboretum backpack loaded with binoculars\, field guides\, a magnifying glass and everything else needed for outdoor Arboretum adventure! No pre-registration is necessary. Adults must be accompanied by a child! &nbsp\;&nbsp\;Pre Registration: NONE&nbsp\;
LOCATION:Reeves-Reed Arboretum 165 Hobart Ave. Summit\, NJ 07901
UID:e.870.13045
SEQUENCE:3
DTSTAMP:20260421T101222Z
URL:https://business.suburbanchambers.org/events/details/discovery-saturdays-at-reeves-reed-arboretum-06-16-2018-13045
END:VEVENT

END:VCALENDAR
