BEGIN:VCALENDAR
VERSION:2.0
PRODID:-//ChamberMaster//Event Calendar 2.0//EN
METHOD:PUBLISH
X-PUBLISHED-TTL:P3D
REFRESH-INTERVAL:P3D
CALSCALE:GREGORIAN
BEGIN:VEVENT
DTSTART:20180407T130000Z
DTEND:20180407T170000Z
X-MICROSOFT-CDO-ALLDAYEVENT:FALSE
SUMMARY:Discovery Saturdays at Reeves-Reed Arboretum
DESCRIPTION:Make a discovery at the Arboretum and enjoy a unique family experience. Drop by the Stackhouse Education Center on Saturdays\, any time between 9:00 am and 1:00 pm\, for an interactive exploration of nature. Each week discover a new plant\, animal or environmental topic through experiments\, stories\, games\, and crafts. Borrow an Arboretum backpack loaded with binoculars\, field guides\, a magnifying glass and everything else needed for outdoor Arboretum adventure! No pre-registration is necessary. Adults must be accompanied by a child! Please note that Discovery Saturdays is available in Spanish! \n\nApril 7   April Showers
X-ALT-DESC;FMTTYPE=text/html:Make a discovery at the Arboretum and enjoy a unique family experience. Drop by the Stackhouse Education Center on Saturdays\, any time between 9:00 am and 1:00 pm\, for an interactive exploration of nature. Each week discover a new plant\, animal or environmental topic through experiments\, stories\, games\, and crafts. Borrow an Arboretum backpack loaded with binoculars\, field guides\, a magnifying glass and everything else needed for outdoor Arboretum adventure! No pre-registration is necessary. Adults must be accompanied by a child! Please note that Discovery Saturdays is available in Spanish!&nbsp\;<br style="box-sizing: border-box\; font-family: &quot\;Titillium Web&quot\;\, sans-serif\; font-size: 14px\;" />\n<span style="font-family: &quot\;Titillium Web&quot\;\, sans-serif\; font-size: 14px\;">April 7 &ndash\; April Showers</span><br style="box-sizing: border-box\; font-family: &quot\;Titillium Web&quot\;\, sans-serif\; font-size: 14px\;" />\n<br style="box-sizing: border-box\; font-family: &quot\;Titillium Web&quot\;\, sans-serif\; font-size: 14px\;" />\n&nbsp\;
LOCATION:Reeves-Reed Arboretum 165 Hobart Ave. Summit\, NJ 07901
UID:e.870.11732
SEQUENCE:3
DTSTAMP:20260421T160831Z
URL:https://business.suburbanchambers.org/events/details/discovery-saturdays-at-reeves-reed-arboretum-04-07-2018-11732
END:VEVENT

END:VCALENDAR
