BEGIN:VCALENDAR
VERSION:2.0
PRODID:-//ChamberMaster//Event Calendar 2.0//EN
METHOD:PUBLISH
X-PUBLISHED-TTL:P3D
REFRESH-INTERVAL:P3D
CALSCALE:GREGORIAN
BEGIN:VEVENT
DTSTART;VALUE=DATE:20181011
DTEND;VALUE=DATE:20181012
TRANSP:TRANSPARENT
X-MICROSOFT-CDO-ALLDAYEVENT:TRUE
SUMMARY:Design Day & Night
DESCRIPTION:Summit will be celebrating its design businesses for the third year with Design Day & Night. On October 11\, over 20 unique design businesses will present special workshops\, host acclaimed guest speakers (including Ashley Whittaker and Jessica Kagan Cushman)\, reveal exclusive product previews and more. The event takes place between 10am-2pm and 5-8pm.
X-ALT-DESC;FMTTYPE=text/html:<span style="color:rgb(0\, 0\, 0)\; font-family:arial\,helvetica\,sans-serif\,serif\,emojifont\; font-size:11pt">Summit will be celebrating its&nbsp\;<span style="background-color:rgb(255\, 238\, 148)">design</span>&nbsp\;businesses for the third year with&nbsp\;<span style="background-color:rgb(255\, 238\, 148)">Design</span>&nbsp\;<span style="background-color:rgb(255\, 238\, 148)">Day</span>&nbsp\;&amp\; Night</span><span style="color:rgb(0\, 0\, 0)\; font-family:arial\,verdana\,helvetica\,sans-serif\,serif\,emojifont\; font-size:14px"><span style="font-family:arial\,helvetica\,sans-serif\,serif\,emojifont\; font-size:11pt">.&nbsp\;</span><span style="font-family:arial\,helvetica\,sans-serif\,serif\,emojifont\; font-size:11pt">On October 11\, over 20 unique&nbsp\;<span style="background-color:rgb(255\, 238\, 148)">design&nbsp\;</span>businesses will present special workshops\, host acclaimed guest speakers (including Ashley Whittaker and Jessica Kagan Cushman)\, reveal exclusive product previews and more. The&nbsp\;event takes place&nbsp\;between 10am-2pm and 5-8pm.</span></span>
LOCATION:Summit Downtown
UID:e.870.14529
SEQUENCE:3
DTSTAMP:20260420T213849Z
URL:https://business.suburbanchambers.org/events/details/design-day-night-14529
END:VEVENT

END:VCALENDAR
