BEGIN:VCALENDAR
VERSION:2.0
PRODID:-//ChamberMaster//Event Calendar 2.0//EN
METHOD:PUBLISH
X-PUBLISHED-TTL:P3D
REFRESH-INTERVAL:P3D
CALSCALE:GREGORIAN
BEGIN:VEVENT
DTSTART:20190404T150000Z
DTEND:20190404T210000Z
X-MICROSOFT-CDO-ALLDAYEVENT:FALSE
SUMMARY:Design Day
DESCRIPTION:Summit Design District is ready to help with your Spring design projects! Mark your calendars for April 4th\, 11am-5pm. Downtown design businesses are hosting creative and informative events you don't want to miss. "Designers and Dynamic Conversation" at GreatHouse Bonny Neiman will feature renowned designer Tom Samet of Hamptons House Design and local design duo Lyon Field sharing their insights and fresh ideas for your homestyle.  Summit's Design District has everything you need to get your home ready for the Spring season: interior design\, furniture\, bedding\, flooring\, paint and wallcovering\, architects\, kitchen and bath design\, window covering and more.  For more info\, visit summitdowntown.org or our Facebook event.
X-ALT-DESC;FMTTYPE=text/html:Summit Design District is ready to help with your Spring design projects! Mark your calendars for April 4<sup>th</sup>\, 11am-5pm. Downtown design businesses are hosting creative and informative events you don&rsquo\;t want to miss. &ldquo\;Designers and Dynamic Conversation&rdquo\; at GreatHouse Bonny Neiman will feature renowned designer Tom Samet of Hamptons House Design and local design duo Lyon Field sharing their insights and fresh ideas for your homestyle. &nbsp\;Summit&rsquo\;s Design District has everything you need to get your home ready for the Spring season: interior design\, furniture\, bedding\, flooring\, paint and wallcovering\, architects\, kitchen and bath design\, window covering and more.&nbsp\; For more info\, visit <a href="https://www.summitdowntown.org/events/design-day/">summitdowntown.org</a> or our <a href="https://www.facebook.com/events/399012897519818/">Facebook event</a>.
LOCATION:Summit Design District
UID:e.870.15349
SEQUENCE:3
DTSTAMP:20260419T230843Z
URL:https://business.suburbanchambers.org/events/details/design-day-15349
END:VEVENT

END:VCALENDAR
