BEGIN:VCALENDAR
VERSION:2.0
PRODID:-//ChamberMaster//Event Calendar 2.0//EN
METHOD:PUBLISH
X-PUBLISHED-TTL:P3D
REFRESH-INTERVAL:P3D
CALSCALE:GREGORIAN
BEGIN:VEVENT
DTSTART:20190419T233000Z
DTEND:20190420T023000Z
X-MICROSOFT-CDO-ALLDAYEVENT:FALSE
SUMMARY:Del Rey with The Green Planet Band at the Minstrel
DESCRIPTION:Free parking\; wheelchair accessible.
X-ALT-DESC;FMTTYPE=text/html:Free parking\; wheelchair accessible.
LOCATION:Morristown Unitarian Fellowship 21 Normandy Heights Road Morristown\, NJ 07960
UID:e.870.15372
SEQUENCE:3
DTSTAMP:20260420T000421Z
URL:https://business.suburbanchambers.org/events/details/del-rey-with-the-green-planet-band-at-the-minstrel-15372
END:VEVENT

END:VCALENDAR
