BEGIN:VCALENDAR
VERSION:2.0
PRODID:-//ChamberMaster//Event Calendar 2.0//EN
METHOD:PUBLISH
X-PUBLISHED-TTL:P3D
REFRESH-INTERVAL:P3D
CALSCALE:GREGORIAN
BEGIN:VEVENT
DTSTART:20180509T233000Z
DTEND:20180510T010000Z
X-MICROSOFT-CDO-ALLDAYEVENT:FALSE
SUMMARY:Defining Success - Mind Over Matter (for all women) at Reeves-Reed Arboretum
DESCRIPTION:In this class you will learn how to... Define what success is for you Uncover the secret to your success Discover your success set point Stop sabotaging your success Change your success track Be truthful and kinder to yourself Create a definition of success that is right for you. Bringing a friend for additional support is always welcome!
X-ALT-DESC;FMTTYPE=text/html:In this class you will learn how to... Define what success is for you Uncover the secret to your success Discover your success set point Stop sabotaging your success Change your success track Be truthful and kinder to yourself Create a definition of success that is right for you. Bringing a friend for additional support is always welcome!&nbsp\;
LOCATION:Reeves-Reed Arboretum 165 Hobart Ave. Summit\, NJ 07090
UID:e.870.11794
SEQUENCE:3
DTSTAMP:20260421T133658Z
URL:https://business.suburbanchambers.org/events/details/defining-success-mind-over-matter-for-all-women-at-reeves-reed-arboretum-11794
END:VEVENT

END:VCALENDAR
