BEGIN:VCALENDAR
VERSION:2.0
PRODID:-//ChamberMaster//Event Calendar 2.0//EN
METHOD:PUBLISH
X-PUBLISHED-TTL:P3D
REFRESH-INTERVAL:P3D
CALSCALE:GREGORIAN
BEGIN:VEVENT
DTSTART:20190407T190000Z
DTEND:20190407T210000Z
X-MICROSOFT-CDO-ALLDAYEVENT:FALSE
SUMMARY:Declutter Like You're Moving
DESCRIPTION:Jamie Novak\, organizing expert\, humorist\, and author of Keep This\, Toss That\, will give you practical advice on decluttering your home\, just in time for real estate season. This is your last chance to see Jamie on the East Coast for the next few years. Free\, no registration necessary.
X-ALT-DESC;FMTTYPE=text/html:Jamie Novak\, organizing expert\, humorist\, and author of Keep This\, Toss That\, will give you practical advice on decluttering your home\, just in time for real estate season. This is your last chance to see Jamie on the East Coast for the next few years. Free\, no registration necessary.
LOCATION:New Providence Memorial Library
UID:e.870.15358
SEQUENCE:3
DTSTAMP:20260419T230848Z
URL:https://business.suburbanchambers.org/events/details/declutter-like-you-re-moving-15358
END:VEVENT

END:VCALENDAR
