BEGIN:VCALENDAR
VERSION:2.0
PRODID:-//ChamberMaster//Event Calendar 2.0//EN
METHOD:PUBLISH
X-PUBLISHED-TTL:P3D
REFRESH-INTERVAL:P3D
CALSCALE:GREGORIAN
BEGIN:VEVENT
DTSTART:20181007T180000Z
DTEND:20181007T200000Z
X-MICROSOFT-CDO-ALLDAYEVENT:FALSE
SUMMARY:Dead and Buried
DESCRIPTION:In this dark comedy set in a small New England town at Halloween\, 18-year-old Perdue finds a job in a place most people wouldn't even consider: the local graveyard. Bid\, the taciturn former Marine who runs the cemetery\, hires Perdue because she unexpectedly touches Bid's heart. Bid's young assistant Robbie has gleaned most of his knowledge of manhood from the pages of Maxim. By play's end\, each of their searches for what they've lost ends when they find one another instead.
X-ALT-DESC;FMTTYPE=text/html:In this dark comedy set in a small New England town at Halloween\, 18-year-old Perdue finds a job in a place most people wouldn&#39\;t even consider: the local graveyard. Bid\, the taciturn former Marine who runs the cemetery\, hires Perdue because she unexpectedly touches Bid&#39\;s heart. Bid&#39\;s young assistant Robbie has gleaned most of his knowledge of manhood from the pages of Maxim. By play&#39\;s end\, each of their searches for what they&#39\;ve lost ends when they find one another instead.
LOCATION:Dreamcatcher Repertory Theatre Oakes Center 120 Morris Avenue Summit\, NJ
UID:e.870.14441
SEQUENCE:3
DTSTAMP:20260420T220158Z
URL:https://business.suburbanchambers.org/events/details/dead-and-buried-10-07-2018-14441
END:VEVENT

END:VCALENDAR
