BEGIN:VCALENDAR
VERSION:2.0
PRODID:-//ChamberMaster//Event Calendar 2.0//EN
METHOD:PUBLISH
X-PUBLISHED-TTL:P3D
REFRESH-INTERVAL:P3D
CALSCALE:GREGORIAN
BEGIN:VEVENT
DTSTART:20181005T114500Z
DTEND:20181005T223000Z
X-MICROSOFT-CDO-ALLDAYEVENT:FALSE
SUMMARY:Day Trip to Long Island's Gold Coast
DESCRIPTION:Join your friends at the Summit Area YMCA for a fun-filled day of exploration\, friends\, and lunch! Our trip is all-inclusive with round-trip bus transportation from Summit. TRIP HIGHLIGHTS   Stroll through the outdoor sculpture garden and enjoy a private tour of the "True Colors" exhibit at the Nassau County Art museum\, an extravagant estate once owned by Henry Clay Frick.   Enjoy a three-course sit-down lunch at the Jolly Fisherman in Roslyn\, NY   Experience a private docent-led tour of Old Westbury House and gardens\, once home to John S. Phipps and family DAY: Friday\, October 5 TIME: 7:45AM - 6:30PM WHERE: Long Island's Gold Coast COST: $120 Members\, $130 Non-Member Cost is all-inclusive FOR MORE INFORMATION Contact Lisa Meyers at (P) 908 273 3330 x 1186 (E) lisa.meyers@theSAY.org
X-ALT-DESC;FMTTYPE=text/html:Join your friends at the Summit Area YMCA for a fun-filled day of exploration\, friends\, and lunch! Our trip is all-inclusive with round-trip bus transportation from Summit. TRIP HIGHLIGHTS &bull\; Stroll through the outdoor sculpture garden and enjoy a private tour of the &ldquo\;True Colors&rdquo\; exhibit at the Nassau County Art museum\, an extravagant estate once owned by Henry Clay Frick. &bull\; Enjoy a three-course sit-down lunch at the Jolly Fisherman in Roslyn\, NY &bull\; Experience a private docent-led tour of Old Westbury House and gardens\, once home to John S. Phipps and family DAY: Friday\, October 5 TIME: 7:45AM - 6:30PM WHERE: Long Island&rsquo\;s Gold Coast COST: $120 Members\, $130 Non-Member Cost is all-inclusive FOR MORE INFORMATION Contact Lisa Meyers at (P) 908 273 3330 x 1186 (E) lisa.meyers@theSAY.org
LOCATION:Summit YMCA 67 Maple St\, Summit\, NJ
UID:e.870.14303
SEQUENCE:3
DTSTAMP:20260420T221156Z
URL:https://business.suburbanchambers.org/events/details/day-trip-to-long-island-s-gold-coast-14303
END:VEVENT

END:VCALENDAR
