BEGIN:VCALENDAR
VERSION:2.0
PRODID:-//ChamberMaster//Event Calendar 2.0//EN
METHOD:PUBLISH
X-PUBLISHED-TTL:P3D
REFRESH-INTERVAL:P3D
CALSCALE:GREGORIAN
BEGIN:VEVENT
DTSTART:20180628T123000Z
DTEND:20180628T143000Z
X-MICROSOFT-CDO-ALLDAYEVENT:FALSE
SUMMARY:DaVinci Society Workshop & Business Networking Meeting. Author & Speaker Michael Goldberg is back!
DESCRIPTION:Michael Goldberg is back by popular demand and ready to bring your networking skills to the next level. Michael was our keynote speaker for for last Holiday meeting this past December and is now ready for ROUND 2! Join us on Thursday from 8:30 to 10:30 am for this special workshop to build your own networking strategy & Action Plan! We will be building on what you learned from the December meeting. Overview of what Networking is (and what it's not) PEEC Statement (craft\, practice) 4 Phases of Networking Best Places to Network Networking Action Plan (or Daily Fight Plan) We are honored to have Michael Goldberg of Knockout Networking with us. Hear this Ted Talks Speaker and let him show you how networking is really done. Please join us our unique & powerful business networking breakfast & meeting. You will also learn about the DaVinci Society's vision and other approaches we offer to introduce you to influential people in the area. Register early before the event closes out\, and feel free to forward this invitation to an associate!
X-ALT-DESC;FMTTYPE=text/html:Michael Goldberg is back by popular demand and ready to bring your networking skills to the next level. Michael was our keynote speaker for for last Holiday meeting this past December and is now ready for ROUND 2! Join us on Thursday from 8:30 to 10:30 am for this special workshop to build your own networking strategy &amp\; Action Plan! We will be building on what you learned from the December meeting. Overview of what Networking is (and what it&rsquo\;s not) PEEC Statement (craft\, practice) 4 Phases of Networking Best Places to Network Networking Action Plan (or Daily Fight Plan) We are honored to have Michael Goldberg of Knockout Networking with us. Hear this Ted Talks Speaker and let him show you how networking is really done. Please join us our unique &amp\; powerful business networking breakfast &amp\; meeting. You will also learn about the DaVinci Society&#39\;s vision and other approaches we offer to introduce you to influential people in the area. Register early before the event closes out\, and feel free to forward this invitation to an associate!
LOCATION:Park Avenue Club - 100 Campus Drive\, Florham Park\, NJ 07932
UID:e.870.14099
SEQUENCE:3
DTSTAMP:20260421T100844Z
URL:https://business.suburbanchambers.org/events/details/davinci-society-workshop-business-networking-meeting-author-speaker-michael-goldberg-is-back-14099
END:VEVENT

END:VCALENDAR
