BEGIN:VCALENDAR
VERSION:2.0
PRODID:-//ChamberMaster//Event Calendar 2.0//EN
METHOD:PUBLISH
X-PUBLISHED-TTL:P3D
REFRESH-INTERVAL:P3D
CALSCALE:GREGORIAN
BEGIN:VEVENT
DTSTART:20181219T131500Z
DTEND:20181219T151500Z
X-MICROSOFT-CDO-ALLDAYEVENT:FALSE
SUMMARY:DaVinci Society December HOLIDAY Networking Meeting 2018
DESCRIPTION:Join us on Friday\, December 19th  from 8:15 - 10:15AM for our unique HOLIDAY networking breakfast & meeting. \n\nThe December Holiday meeting will be 1 part meeting and 3 parts social. We have great speakers\, lots of fun surprises and gifts. Come and socialize with our members and guests.\n\nWe have a very fun and interesting meeting planned. We are very lucky to have 2 wonderful speakers with very different presentations.\n\nJohn Carpenter \n\nMayor of Basking Ridge\n\n& \n\nTommy Hilcken\n\nMotivational Humorist\n\n\n\nPlease register at www.DaVinciSociety.club \n\n$35.00 Pre-Register ($40 at the door)
X-ALT-DESC;FMTTYPE=text/html:<p>Join us on Friday\, December 19th&nbsp\; from 8:15 - 10:15AM for&nbsp\;our unique HOLIDAY networking breakfast &amp\; meeting.&nbsp\;</p>\n\n<p>The December Holiday meeting will be 1 part meeting and 3 parts social. We have great speakers\, lots of fun surprises and gifts. Come and&nbsp\;socialize with our members and guests.</p>\n\n<p>We have a very fun and interesting meeting planned. We are very lucky to have 2 wonderful speakers with very different presentations.</p>\n\n<p><strong>John Carpenter&nbsp\;</strong></p>\n\n<p><strong>Mayor of Basking Ridge</strong></p>\n\n<p><strong>&amp\;&nbsp\;</strong></p>\n\n<p><strong>Tommy Hilcken</strong></p>\n\n<p><strong>Motivational Humorist<br />\n<br />\nPlease register at www.DaVinciSociety.club&nbsp\;</strong><br />\n$35.00 Pre-Register ($40 at the door)</p>\n
LOCATION:Park Avenue Club - 100 Campus Drive\, Florham Park\, NJ 07932
UID:e.870.14861
SEQUENCE:3
DTSTAMP:20260422T144414Z
URL:https://business.suburbanchambers.org/events/details/davinci-society-december-holiday-networking-meeting-2018-14861
END:VEVENT

END:VCALENDAR
